BEGIN:VCALENDAR
VERSION:2.0
PRODID:-//ArchUp - ECPv6.15.20//NONSGML v1.0//EN
CALSCALE:GREGORIAN
METHOD:PUBLISH
X-ORIGINAL-URL:https://archup.net
X-WR-CALDESC:Events for ArchUp
REFRESH-INTERVAL;VALUE=DURATION:PT1H
X-Robots-Tag:noindex
X-PUBLISHED-TTL:PT1H
BEGIN:VTIMEZONE
TZID:UTC
BEGIN:STANDARD
TZOFFSETFROM:+0000
TZOFFSETTO:+0000
TZNAME:UTC
DTSTART:20250101T000000
END:STANDARD
END:VTIMEZONE
BEGIN:VEVENT
DTSTART;TZID=UTC:20260130T080000
DTEND;TZID=UTC:20260517T170000
DTSTAMP:20260422T193018
CREATED:20260216T164109Z
LAST-MODIFIED:20260216T164109Z
UID:10001173-1769760000-1779037200@archup.net
SUMMARY:Beyond the Façade Exhibition 2026
DESCRIPTION:OverviewBeyond the Façade is a contemporary art exhibition hosted inside Casa Batlló Contemporary in Barcelona. The exhibition develops through United Visual Artists\, a London-based studio which creates light-based installations that show Antoni Gaudí’s architectural heritage through digital spaces and spatial media artworks. The exhibition forms part of the broader visitor experience inside Casa Batlló\, which combines traditional architectural elements with modern artistic expressions. The historic building operates as both exhibition space and fundamental design element of his architectural work. Related industry discussions often appear across architecture events. FocusThe exhibition focuses on reinterpretations of Gaudí’s structural logic\, organic geometry\, material experimentation\, and relationship between architecture and nature. The installations use projection together with sound and dynamic lighting and kinetic digital composition to create artistic spaces which show architectural principles to viewers. This type of architectural interpretation aligns with analytical themes which architectural articles explore through research that studies experimental design in connection to architectural competitions. ProgrammeVisitors access the exhibition as part of the Casa Batlló tour route. The experience includes guided circulation through the historic residence\, audiovisual installations\, immersive exhibition rooms\, and digital interpretation spaces located within the second floor contemporary gallery. The exhibition exists within the complete museum experience\, which differs from a separate ticketed conference or lecture event. AudienceThe exhibition targets architects\, architecture students\, digital artists\, exhibition designers\, historians\, and cultural visitors who want to explore Gaudí’s work and modern spatial media installations. Event Details\n\n\nItem\nDetails\n\n\nDates\n31 January 2026 — 17 May 2026\n\n\nVenue\nCasa Batlló Contemporary\, Barcelona\, Spain\n\n\nEvent Type\nArchitectural exhibition integrated within museum visit\n\n\nAccess\nEntry included with Casa Batlló admission ticket\n\n\nFees\nStandard Casa Batlló visitor ticket required. Pricing varies depending on ticket category\, visitor type\, and time slot.\n\n\n✦ ArchUp Editorial InsightThe Beyond the Façade exhibition uses its immersive installations to show historical building design through spatial storytelling which does not depend on architectural technical studies. The exhibition demonstrates to architects how heritage spaces can be transformed through three elements which include light and sound and digital sequencing to show movement patterns and building components and important geometric shapes. The study presents a relevant case about heritage interpretation and exhibition design which informs building practices but its practical building methods and academic theories need further development. Critical ConclusionBeyond the Façade functions as a cultural interpretive installation which lacks features of an academic architectural exhibition. The installation represents its highest value through its ability to transform Gaudí’s architectural style into modern interactive media formats which anyone can use. The research offers minimal benefits to technical experts but it shows how heritage buildings can be brought back to life through two methods which include digital storytelling and exhibition design techniques. Explore the Latest Architecture Exhibitions & ConferencesArchUp offers daily updates on top global architectural exhibitions\, design conferences\, and professional art and design forums. Follow key architecture competitions\, check official results\, and stay informed through the latest architectural news worldwide. ArchUp is your encyclopedic hub for discovering events and design-driven opportunities across the globe.
URL:https://archup.net/event/beyond-the-facade-exhibition-2026/
LOCATION:Casa Batlló\, Pg. de Gràcia\, 43 08007 Barcelona\, Barcelona\, Barcelona\, -\, Spain
CATEGORIES:Exhibitions
ATTACH;FMTTYPE=image/webp:https://archup.net/wp-content/uploads/2026/02/Web_Expo-Cover-v.jpg.webp
ORGANIZER;CN="Casa Batll%C3%B3":MAILTO:info@casabatllo.cat
END:VEVENT
END:VCALENDAR