BEGIN:VCALENDAR
VERSION:2.0
PRODID:-//ArchUp - ECPv6.15.20//NONSGML v1.0//EN
CALSCALE:GREGORIAN
METHOD:PUBLISH
X-ORIGINAL-URL:https://archup.net
X-WR-CALDESC:Events for ArchUp
REFRESH-INTERVAL;VALUE=DURATION:PT1H
X-Robots-Tag:noindex
X-PUBLISHED-TTL:PT1H
BEGIN:VTIMEZONE
TZID:UTC
BEGIN:STANDARD
TZOFFSETFROM:+0000
TZOFFSETTO:+0000
TZNAME:UTC
DTSTART:20250101T000000
END:STANDARD
END:VTIMEZONE
BEGIN:VEVENT
DTSTART;TZID=UTC:20260512T080000
DTEND;TZID=UTC:20260514T170000
DTSTAMP:20260420T232453
CREATED:20260213T224930Z
LAST-MODIFIED:20260213T225010Z
UID:10001168-1778572800-1778778000@archup.net
SUMMARY:Futurebuild 2026
DESCRIPTION:OverviewThe Built Environment section of Futurebuild 2026 serves as a primary UK event which connects building industry professionals who work in construction and architecture and sustainable development and innovative practices. Futurebuild 2026 will occur at ExCeL London during UK Construction Week London which creates a massive industry event dedicated to promoting sustainable and regenerative solutions. (Architecture Events) ThemesThe event focuses on seven main areas which include sustainability and regenerative design and energy efficiency and retrofit and digital transformation and circular economy strategies and low-carbon construction. The show demonstrates real-world solutions through its demonstration of new materials and its presentation of creative methods which will define future building practices. The topics under discussion show connections to the content which appears in Architecture Articles and the new concepts which designers present at Architecture Competitions. ProgrammeFuturebuild 2026 includes keynote speeches and certified CPD courses and panel discussions and innovation demonstrations and technical training sessions. The program delivers practical methods which enable organizations to achieve decarbonization goals through sustainable material implementation and retrofit methods and cross-industry partnership development. Target AudienceThe event attracts architects\, engineers\, contractors\, developers\, manufacturers\, policymakers\, consultants\, designers\, and sustainability professionals who want to understand new information and create professional relationships while they search for methods to improve the built environment. Event Details\n\n\nItem\nDetails\n\n\nDates\n12 May 2026 — 14 May 2026\n\n\nVenue\nExCeL London\, London\, United Kingdom\n\n\nEvent Type\nTrade exhibition and knowledge programme\n\n\nEntry\nRegistration required\n\n\nFees\nStandard visitor registration — 49–99 GBPDiscounted student rates — subject to availabilityLate or on-site registration may be higher\n\n\n✦ ArchUp Editorial InsightThe Futurebuild 2026 event will bring together sustainability experts and construction professionals to discuss sustainable building practices. The project demonstrates architectural value because it converts environmental objectives and building renovation methods and circular economy concepts into actual construction methods. The partnership with UK Construction Week expands its industry presence but the event’s excessive size and focus on product display will limit its ability to support architectural research activities. The programme includes decarbonisation and regenerative design as its central themes but it mostly presents these topics through technology applications and policy development instead of creating new architectural concepts and spatial design advancements. ConclusionFuturebuild 2026 serves as a functional platform which creates effective solutions to tackle urgent needs for decarbonisation and sustainable development in built environments. The facility operates as an exhibition space which combines knowledge-based programs to create an innovation marketplace and a strategic platform for industry-wide transformation. Explore the Latest Architecture Exhibitions & ConferencesArchUp offers daily updates on top global architectural exhibitions\, design conferences\, and professional art and design forums. Follow key architecture competitions\, check official results\, and stay informed through the latest architectural news worldwide. ArchUp is your encyclopedic hub for discovering events and design-driven opportunities across the globe.
URL:https://archup.net/event/futurebuild-2026/
LOCATION:ExCel London\, Royal Victoria Dock\, 1 Western Gateway\, E16 1XL\, London\, United Kingdom
CATEGORIES:Exhibitions
ATTACH;FMTTYPE=image/png:https://archup.net/wp-content/uploads/2026/02/Futurebuild-logo-26_black_with_may_date-1.png
END:VEVENT
END:VCALENDAR