BEGIN:VCALENDAR
VERSION:2.0
PRODID:-//ArchUp - ECPv6.15.20//NONSGML v1.0//EN
CALSCALE:GREGORIAN
METHOD:PUBLISH
X-ORIGINAL-URL:https://archup.net
X-WR-CALDESC:Events for ArchUp
REFRESH-INTERVAL;VALUE=DURATION:PT1H
X-Robots-Tag:noindex
X-PUBLISHED-TTL:PT1H
BEGIN:VTIMEZONE
TZID:UTC
BEGIN:STANDARD
TZOFFSETFROM:+0000
TZOFFSETTO:+0000
TZNAME:UTC
DTSTART:20240101T000000
END:STANDARD
END:VTIMEZONE
BEGIN:VTIMEZONE
TZID:America/Los_Angeles
BEGIN:DAYLIGHT
TZOFFSETFROM:-0800
TZOFFSETTO:-0700
TZNAME:PDT
DTSTART:20240310T100000
END:DAYLIGHT
BEGIN:STANDARD
TZOFFSETFROM:-0700
TZOFFSETTO:-0800
TZNAME:PST
DTSTART:20241103T090000
END:STANDARD
BEGIN:DAYLIGHT
TZOFFSETFROM:-0800
TZOFFSETTO:-0700
TZNAME:PDT
DTSTART:20250309T100000
END:DAYLIGHT
BEGIN:STANDARD
TZOFFSETFROM:-0700
TZOFFSETTO:-0800
TZNAME:PST
DTSTART:20251102T090000
END:STANDARD
BEGIN:DAYLIGHT
TZOFFSETFROM:-0800
TZOFFSETTO:-0700
TZNAME:PDT
DTSTART:20260308T100000
END:DAYLIGHT
BEGIN:STANDARD
TZOFFSETFROM:-0700
TZOFFSETTO:-0800
TZNAME:PST
DTSTART:20261101T090000
END:STANDARD
END:VTIMEZONE
BEGIN:VEVENT
DTSTART;TZID=UTC:20251125T080000
DTEND;TZID=UTC:20251126T170000
DTSTAMP:20260424T161518
CREATED:20250715T051949Z
LAST-MODIFIED:20250715T051949Z
UID:10000814-1764057600-1764176400@archup.net
SUMMARY:International Conference on Architectural History and Cultural Architecture 2025
DESCRIPTION:et to take place in Abu Dhabi from November 25–26\, 2025\, the International Conference on Architectural History and Cultural Architecture (ICHCA-25) offers a timely response to the growing need for collective scholarship in the field of architectural history and cultural architecture. This conference convenes academics\, historians\, architects\, educators\, researchers\, entrepreneurs\, and policymakers from across the globe for two days of dynamic exchange and critical reflection. In an era where architectural identity and cultural heritage are increasingly at risk—due to urbanization\, climate change\, and political neglect—ICHCA-25 provides a pivotal platform for discourse\, advocacy\, and future-building. Participants will benefit from keynote lectures\, thematic panels\, research presentations\, debates\, networking opportunities\, and training workshops that span both historical and contemporary themes. Whether you are a graduate student seeking scholarly direction\, a researcher aiming to publish\, or an industry expert advocating for preservation and policy reform\, ICHCA-25 is positioned as a unique interdisciplinary space that addresses the cultural\, intellectual\, and ethical stakes of architectural history. Conference Structure and Key TopicsCore Themes\n 	\nDocumentation and analysis of architectural heritage \n\n 	\nVernacular architecture and regional identities \n\n 	\nCultural narratives embedded in building traditions \n\n 	\nChallenges in conservation and adaptive reuse \n\n 	\nArchitectural historiography and critical theory \n\n 	\nColonial legacies and postcolonial spatial discourse \n\n 	\nUrban memory\, ruins\, and architectural palimpsests \n\n 	\nMuseum architecture and spaces of curation \n\n 	\nRitual\, symbolism\, and sacred architecture \n\n 	\nHeritage policies and global preservation frameworks \n\nProgram Schedule Summary\n\n\n\n\nComponent\nDescription\n\n\n\n\nKeynote Speeches\nDelivered by renowned scholars in architectural history and heritage policy\n\n\nPanel Discussions\nThematic forums on cultural discourse and historiography\n\n\nResearch Papers\nOral and poster sessions covering new discoveries and critical insights\n\n\nWorkshops\nMethod-based sessions on archival tools\, digital preservation\, and fieldwork\n\n\nNetworking Events\nFacilitated sessions for peer collaboration and publisher engagement\n\n\nExhibition Space\nDisplay of scholarly publications and conservation case studies\n\n\n\n\n\n\n\nArchitectural Analysis: Reclaiming Cultural NarrativesThe architecture of cultural heritage is not merely a relic of the past; it is an active agent of identity\, memory\, and resistance. ICHCA-25’s venue in Abu Dhabi\, a city undergoing vast architectural transformations while investing in heritage\, reflects the tension between modern development and historical rootedness. Sessions are designed to critique Eurocentric frameworks in historiography\, while encouraging a rethinking of how memory\, ritual\, and place-making shape architecture. Topics like intangible heritage\, typology as resistance\, and architecture as storytelling emphasize design’s cultural meaning beyond form. In highlighting underrepresented geographies\, the conference challenges conventional paradigms and foregrounds decolonial approaches to space\, aesthetics\, and time. Project Importance: Why ICHCA-25 Matters NowThe urgency of ICHCA-25 stems from a moment of cultural vulnerability. Cities are losing historic fabric to speculative development\, and architectural curricula often overlook indigenous and vernacular knowledge systems. The conference fills this gap by advocating for: \n 	\nNew methodologies in architectural documentation and interpretation \n\n 	\nPolicy-influencing dialogue between scholars and civic stakeholders \n\n 	\nInclusion of marginalized voices and regions in the global architectural narrative \n\n 	\nEthical preservation that goes beyond material survival to include context and community \n\nBy showcasing both theory and application\, ICHCA-25 proposes a holistic and human-centered architecture that honors history while imagining culturally responsive futures. ✦ ArchUp Editorial InsightICHCA-25 encapsulates a critical moment in architectural history discourse\, as cultural architecture regains urgency amid rapid global change. Visually\, the featured topics span richly contextual vernacular textures to abstract theoretical mappings—highlighting the intersection of form\, ritual\, and lived experience. One potential concern is whether such a wide thematic scope can deliver depth within a two-day format. However\, this expansiveness also signals an intentional inclusivity\, pushing attendees to redefine architectural significance through broader cultural and ethical lenses. This makes ICHCA-25 essential for shaping a more equitable and reflective architectural historiography. ConclusionThe International Conference on Architectural History and Cultural Architecture 2025 arrives at a critical juncture\, where the stakes of preservation\, documentation\, and re-interpretation have never been higher. It invites scholars and practitioners not just to look backward\, but to imagine how historical knowledge can actively shape just\, sustainable\, and inclusive architectural futures. Attending ICHCA-25 is more than an academic exercise—it’s a declaration of commitment to cultural integrity\, interdisciplinary thinking\, and a future rooted in collective memory. Through scholarship\, community\, and critical debate\, the conference challenges attendees to confront the ethical dimensions of building\, remembering\, and recording architecture in all its complexity. Explore the Latest Architecture Exhibitions & Conferences\n\nArchUp offers daily updates on top global architectural exhibitions\, design conferences\, and professional art and design forums. Follow key architecture competitions\, check official results\, and stay informed through the latest architectural news worldwide. ArchUp is your encyclopedic hub for discovering events and design-driven opportunities across the globe.\n\n BIG Breaks Ground on the Bold New Las Vegas Baseball Stadium for the Athletics\n\n 
URL:https://archup.net/event/international-conference-on-architectural-history-and-cultural-architecture-2025-2/
LOCATION:NOVOTEL ABU DHABI AL BUSTAN\, Shk. Rashid Bin Saeed St - St - Rabdan\, Abu Dhabi\, United Arab Emirates
CATEGORIES:Conferences
ATTACH;FMTTYPE=image/jpeg:https://archup.net/wp-content/uploads/2025/07/EFSTM-logo.jpg
ORGANIZER;CN="EFSTM":MAILTO:team@efstm.com
END:VEVENT
BEGIN:VEVENT
DTSTART;TZID=America/Los_Angeles:20250527T080000
DTEND;TZID=America/Los_Angeles:20250528T170000
DTSTAMP:20260424T161518
CREATED:20250516T163554Z
LAST-MODIFIED:20250516T163554Z
UID:10000721-1748332800-1748451600@archup.net
SUMMARY:International Conference on Information Architecture\, Design Principles and Methods (ICIADPM-25)
DESCRIPTION:Overview\nThe upcoming International Conference on Information Architecture\, Design Principles and Methods (ICIADPM-25) in Abu Dhabi\, UAE\, scheduled for 27th – 28th May 2025\, is designed to address critical challenges by becoming a hub for researchers from around the world. This conference will unite professionals in the fields of Information Architecture\, Design Principles\, and Methodologies to share insights\, expand expertise\, and develop strategies to ensure sustainable growth and advancement in these fields. \nAttendees will gain numerous opportunities for personal and professional development—whether it’s advancing in academia\, research\, entrepreneurship\, or their careers. \nIn an era where knowledge\, ethics\, professionalism\, and stewardship are essential yet increasingly difficult to maintain due to competition and complexity in funding\, ICIADPM-25 provides a crucial platform for rekindling these values. \n\nObjective\nThe primary goal of ICIADPM-25 is to energize the fields of Information Architecture and Design Methods by offering students\, educators\, researchers\, entrepreneurs\, and professionals the inspiration\, intellectual stimulation\, and innovation needed to drive meaningful impact. \nFrom keynote speeches and research presentations to workshops\, panel discussions\, networking events\, and exhibits\, the conference is poised to be a landmark event that catalyzes future achievements in the discipline. \nDespite existing progress\, development in these fields has been slow\, largely due to a lack of motivation. ICIADPM-25 aims to be the motivating force that propels the community forward. \n\nImportant Dates\n\n\n\n\n\nEvent\nDeadline\n\n\n\n\nPre-registration Deadline\n27th April 2025\n\n\nAbstract Submission Deadline\n7th May 2025\n\n\nGeneral Registration Deadline\n12th May 2025\n\n\nConference Dates\n27-28 May 2025\n\n\n\n\n\n\n\n\n\nWho Should Attend (ICIADPM-25)?\nIf you’re involved in Information Architecture\, Design Principles\, or related methodologies\, staying informed of global research is essential. ICIADPM-25 brings together: \n\n\nStudents \n\n\nEducators \n\n\nResearch Scholars \n\n\nScientists \n\n\nEntrepreneurs \n\n\nIndustry Professionals \n\n\nPolicymakers \n\n\nThis event is tailored for individuals seeking to enhance their knowledge\, build networks\, and stay at the forefront of developments in the field. \n\nWhy Should I Attend (ICIADPM-25)?\nBesides the opportunity to gain new knowledge\, ICIADPM-25 offers a unique set of benefits: \n\n\nAccess to expert career and research project guidance \n\n\nOpportunities to network with leading global specialists \n\n\nExposure to editors\, publishers\, and key figures in academic publishing \n\n\nHands-on workshops with practical tutorials on the latest tools and technologies
URL:https://archup.net/event/international-conference-on-information-architecture-design-principles-and-methods-iciadpm-25international-conference-on-information-architecture-design-principles-and-methods-iciadpm-25/
LOCATION:Abu Dhabi\, United Arab Emirates
CATEGORIES:Conferences
ORGANIZER;CN="EFSTM":MAILTO:team@efstm.com
END:VEVENT
END:VCALENDAR