BEGIN:VCALENDAR
VERSION:2.0
PRODID:-//ArchUp - ECPv6.15.20//NONSGML v1.0//EN
CALSCALE:GREGORIAN
METHOD:PUBLISH
X-WR-CALNAME:ArchUp
X-ORIGINAL-URL:https://archup.net
X-WR-CALDESC:Events for ArchUp
REFRESH-INTERVAL;VALUE=DURATION:PT1H
X-Robots-Tag:noindex
X-PUBLISHED-TTL:PT1H
BEGIN:VTIMEZONE
TZID:UTC
BEGIN:STANDARD
TZOFFSETFROM:+0000
TZOFFSETTO:+0000
TZNAME:UTC
DTSTART:20250101T000000
END:STANDARD
END:VTIMEZONE
BEGIN:VEVENT
DTSTART;TZID=UTC:20260505T080000
DTEND;TZID=UTC:20260507T170000
DTSTAMP:20260422T180020
CREATED:20260328T060847Z
LAST-MODIFIED:20260328T060847Z
UID:10001349-1777968000-1778173200@archup.net
SUMMARY:HD Expo + Conference 2026
DESCRIPTION:OverviewHD Expo + Conference is a leading hospitality trade show and conference. The 2026 edition takes place at Mandalay Bay in Las Vegas from 5 to 7 May. It belongs to the field of hospitality design\, product discovery\, and commercial interior solutions. FocusThe event centres on connecting hospitality designers and architects with manufacturers and suppliers. Themes cover innovative products and materials for hotels\, restaurants\, resorts\, and lifestyle commercial spaces\, with a strong emphasis on practical specification\, new developments\, and real project needs. ProgramAttendees explore large exhibition floors with product displays from hundreds of manufacturers. The program includes a full conference with accredited sessions on the HD Mainstage\, HD University educational tracks\, networking events\, and immersive installations such as The Social Hub and DesignWell Pavilion. Additional activities feature talks\, panel discussions\, and dedicated areas for interaction. In many hospitality projects\, designers face the challenge of working with existing buildings. Our earlier analysis of adaptive reuse explores related strategies in commercial interiors. AudienceThis event mainly serves hospitality designers\, architects\, interior design professionals\, manufacturers\, suppliers\, and qualified buyers. It also welcomes new design talent and students through special registration options. Material choices significantly influence durability and atmosphere in hospitality environments. For further reading on this aspect\, see our article on sustainable building materials. Event Details\n\n\n\n\n\nItem\nDetails\n\n\n\n\nDates\n5–7 May 2026\n\n\nVenue\nMandalay Bay\, Las Vegas\n\n\nEvent Type\nHospitality design trade show and conference\n\n\nAccess\nOpen to qualified professionals and buyers\n\n\nFees\nExpo Only: $169 (Advanced rate); Full Conference: $379; Full Conference Group (5+): $209 per pass; Student: $59; Educator: $199\n\n\n\n\n\n✦ ArchUp Editorial InsightFrom an architecture perspective\, HD Expo + Conference functions primarily as a commercial trade platform for product sourcing and industry networking. While it offers direct access to new materials and solutions for hospitality projects\, the heavy sponsor influence and transactional focus limit opportunities for critical examination of spatial experience\, long-term building performance\, or broader design theory. The format supports practical specification needs but provides a narrower value for professionals seeking in-depth architectural discourse. When such events present design ideas to the industry\, they often reflect how professionals engage with built environments. Our coverage of architecture exhibitions looks at different forms of this engagement. Closing NoteThe event maintains its position as the largest dedicated hospitality design platform in the US. Its scale facilitates practical industry exchange\, though its commercial nature distinguishes it from venues that prioritise critical advancement within the wider architecture field.
URL:https://archup.net/event/hd-expo-conference-2026/
LOCATION:Mandalay Bay Convention Center\, 3950 S Las Vegas Blvd\, Las Vegas\, NV 89119\, Las Vegas\, United States
CATEGORIES:Conferences,Exhibitions
ATTACH;FMTTYPE=image/jpeg:https://archup.net/wp-content/uploads/2026/03/maxresdefault.jpg
ORGANIZER;CN="Emerald Expositions":MAILTO:info@emeraldexpo.com
END:VEVENT
BEGIN:VEVENT
DTSTART;TZID=UTC:20260520T080000
DTEND;TZID=UTC:20260520T170000
DTSTAMP:20260422T180020
CREATED:20260302T030529Z
LAST-MODIFIED:20260302T030529Z
UID:10001259-1779264000-1779296400@archup.net
SUMMARY:Hospitality Design – DC CitySCENE 2026
DESCRIPTION:OverviewThe regional networking event Hospitality Design DC CitySCENE 2026 which takes place in Washington DC unites hospitality professionals who work as designers architects purchasing agents and brand executives and business owners. The one‑day event provides attendees with opportunities to establish connections and participate in industry discussions while enjoying time together in a relaxed atmosphere. FocusThe event focuses on hospitality design and related industries which include architecture and interior design and furniture design and lighting design and textile design and service solution development. Attendees can engage with peers\, learn about regional industry trends\, and build professional relationships in a casual environment. ProgramThe program is centered on networking and social interaction rather than formal presentations or exhibitions. Participants typically gather at a prominent local venue\, where they meet and converse over cocktails and light refreshments. The event provides hospitality design professionals with a dedicated space to meet and exchange their expertise despite session specifics being subject to change. AudienceThe event is designed for emerging and established professionals in hospitality design who work as interior designers architects brand representatives purchasing agents and industry owners. Event Details\n\n\nDate\nMay 20\, 2026\n\n\nTime\nEvening (specific times not listed)\n\n\nVenue\nHotel Zena Washington DC\n\n\nLocation\n1155 14th St NW\, Washington\, DC 20005\, USA\n\n\nEvent Type\nNetworking Event\n\n\nAdmission\nNot specified\n\n\n✦ ArchUp Editorial InsightThe primary purpose of Hospitality Design DC CitySCENE 2026 exists as a professional networking event which does not showcase architectural or spatial design innovations. The event enables professionals to share their expertise while gaining knowledge about the hospitality design field which focuses on interior design and lighting design and furniture design. The platform enables professional communication but it restricts access to architectural research activities and experimental design work and urban space assessment research. The event provides architectural value through informal knowledge exchange which helps participants track current design trends instead of supporting design research and material testing and public space research in urban and environmental settings. Closing NoteThe Hospitality Design CitySCENE events function as informal regional events which help people in the hospitality design industry to develop professional relationships while they engage in discussions about their work. Explore the Latest Architecture Exhibitions & ConferencesArchUp offers daily updates on top global architectural exhibitions\, design conferences\, and professional art and design forums. Follow key architecture competitions\, check official results\, and stay informed through the latest architectural news worldwide. ArchUp is your encyclopedic hub for discovering events and design-driven opportunities across the globe.
URL:https://archup.net/event/hospitality-design-dc-cityscene-2026/
LOCATION:Hotel Zena Washington DC\, 1155 14th St NW Washington\, DC 20005\, Washington\, WA\, -\, United States
CATEGORIES:Exhibitions
ATTACH;FMTTYPE=image/png:https://archup.net/wp-content/uploads/2026/03/Cityscene.png
ORGANIZER;CN="Emerald Expositions":MAILTO:info@emeraldexpo.com
END:VEVENT
BEGIN:VEVENT
DTSTART;TZID=UTC:20260603T080000
DTEND;TZID=UTC:20260603T170000
DTSTAMP:20260422T180020
CREATED:20260410T233222Z
LAST-MODIFIED:20260410T233222Z
UID:10001397-1780473600-1780506000@archup.net
SUMMARY:Hospitality Design Chicago CityScene 2026
DESCRIPTION:Overview\n\nHospitality Design Chicago CityScene 2026 is a one-day networking event for the hospitality industry. It takes place on June 3\, 2026 at the Hyatt Centric Chicago Magnificent Mile in Chicago\, Illinois\, and belongs to the field of hospitality architecture\, interior design\, and commercial design for hotels\, restaurants\, and related spaces.\n \nFocus\n\nThe event brings together professionals to discuss design\, development\, and operations in hospitality. It covers architecture\, interior decoration\, furniture\, lighting\, textiles\, kitchen and bathroom solutions\, and other elements relevant to hospitality projects.\n \nProgram\n\nThe program centers on networking among up-and-coming and established professionals. It facilitates connections through structured interactions between designers\, architects\, purchasing agents\, brand executives\, and owners in a trade show-style format.\n \nAudience\n\nThis event targets hospitality designers\, architects\, purchasing agents\, brand executives\, owners\, and other professionals involved in hospitality project development and design.\n \nEvent Details\n\n\n\nDates\nJune 3\, 2026\n\n\nVenue\nHyatt Centric Chicago Magnificent Mile\, 633 N St Clair St\, Chicago\, IL 60611\, USA\n\n\nEvent Type\nNetworking Event / Trade Show\n\n\nAccess\nOpen to trade professionals upon registration\n\n\nFees\nNot publicly specified (typical for industry networking events; contact organizer for registration costs)\n\n\n\n✦ ArchUp Editorial Insight\n\nFrom an architecture perspective\, Hospitality Design Chicago CityScene 2026 functions as a compact networking platform within the hospitality sector. Its one-day format and focus on professional connections effectively link designers with owners and suppliers\, yet the trade-oriented structure may limit extended critical discussion on spatial innovation\, guest experience design\, or contextual responses to urban hospitality challenges in contemporary projects.\n \nClosing Note\n\nThe event occupies an annual slot as a targeted gathering for hospitality design professionals in the Midwest United States. \nFor insights into hospitality environments\, explore our section on commercial architecture. Additional reading is available on interior design applications and architecture events focused on specialized building typologies.\n \n“Networking events in hospitality design connect stakeholders efficiently\, yet architectural depth often requires analysis beyond immediate professional exchanges.”
URL:https://archup.net/event/hospitality-design-chicago-cityscene-2026/
LOCATION:Hyatt Centric Chicago Magnificent Mile\, 633 N St Clair St Chicago\, IL 60611\, Chicago\, IL\, -\, United States
CATEGORIES:Exhibitions
ATTACH;FMTTYPE=image/jpeg:https://archup.net/wp-content/uploads/2026/04/cityscene-los-angeles.jpg
ORGANIZER;CN="Emerald Expositions":MAILTO:info@emeraldexpo.com
END:VEVENT
END:VCALENDAR