BEGIN:VCALENDAR
VERSION:2.0
PRODID:-//ArchUp - ECPv6.15.20//NONSGML v1.0//EN
CALSCALE:GREGORIAN
METHOD:PUBLISH
X-ORIGINAL-URL:https://archup.net
X-WR-CALDESC:Events for ArchUp
REFRESH-INTERVAL;VALUE=DURATION:PT1H
X-Robots-Tag:noindex
X-PUBLISHED-TTL:PT1H
BEGIN:VTIMEZONE
TZID:America/Los_Angeles
BEGIN:DAYLIGHT
TZOFFSETFROM:-0800
TZOFFSETTO:-0700
TZNAME:PDT
DTSTART:20240310T100000
END:DAYLIGHT
BEGIN:STANDARD
TZOFFSETFROM:-0700
TZOFFSETTO:-0800
TZNAME:PST
DTSTART:20241103T090000
END:STANDARD
BEGIN:DAYLIGHT
TZOFFSETFROM:-0800
TZOFFSETTO:-0700
TZNAME:PDT
DTSTART:20250309T100000
END:DAYLIGHT
BEGIN:STANDARD
TZOFFSETFROM:-0700
TZOFFSETTO:-0800
TZNAME:PST
DTSTART:20251102T090000
END:STANDARD
BEGIN:DAYLIGHT
TZOFFSETFROM:-0800
TZOFFSETTO:-0700
TZNAME:PDT
DTSTART:20260308T100000
END:DAYLIGHT
BEGIN:STANDARD
TZOFFSETFROM:-0700
TZOFFSETTO:-0800
TZNAME:PST
DTSTART:20261101T090000
END:STANDARD
END:VTIMEZONE
BEGIN:VEVENT
DTSTART;TZID=America/Los_Angeles:20250527T080000
DTEND;TZID=America/Los_Angeles:20250528T170000
DTSTAMP:20260425T203730
CREATED:20250511T154705Z
LAST-MODIFIED:20250511T154705Z
UID:10000715-1748332800-1748451600@archup.net
SUMMARY:International Conference on Information Architecture\, Design Principles and Methods 2025
DESCRIPTION:OverviewThe International Conference on Information Architecture\, Design Principles and Methods (ICIADPM-25) will be held on 27th – 28th May 2025 in Abu Dhabi\, UAE. This conference aims to address the challenges in the field of Information Architecture\, Design Principles\, and Methods by providing a platform for researchers\, educators\, students\, industry professionals\, and entrepreneurs to come together. The event will foster collaboration\, knowledge exchange\, and the development of policies and mechanisms to ensure the continued growth and progress in these disciplines. Participants will also have access to numerous opportunities for personal and professional advancement\, whether in research\, career\, or entrepreneurship. In today’s world\, where research is becoming increasingly saturated and funding opportunities are more competitive and complex\, ICIADPM-25 serves as a catalyst for overcoming these challenges. It aims to inspire\, motivate\, and empower attendees to push boundaries and achieve greater success in their respective fields. ObjectiveThe ICIADPM-25 conference is designed to ignite progress in Information Architecture\, Design Principles\, and Methods. By bringing together students\, educators\, researchers\, and professionals\, the conference will provide the intellectual stimulation and inspiration necessary to drive innovation and growth. Participants can look forward to exciting keynote speeches\, research presentations\, workshops\, debates\, networking opportunities\, and exhibits. The goal is to accelerate progress in these fields and ensure that future advancements are propelled by the discussions and collaborations that take place at this event. While there has been progress in Information Architecture and related disciplines\, the development pace has not been as fast as desired. This slow progress is largely due to a lack of motivation and a driving force for change. ICIADPM-25 aims to fill this gap by offering a space for motivation\, collaboration\, and the exchange of ideas\, leading to a faster and more efficient development process in these fields. Who Should Attend (ICIADPM-25)?The conference is open to individuals from all sectors connected to Information Architecture\, Design Principles\, and Methods. Attendees include\, but are not limited to: \n\nStudents \n\n\nEducators \n\n\nResearch Scholars \n\n\nScientists \n\n\nEntrepreneurs \n\n\nIndustry Professionals \n\n\nPolicymakers \n\nAnyone involved in or interested in advancing the field of Information Architecture\, whether through research or practice\, will benefit from attending ICIADPM-25. Why Should I Attend (ICIADPM-25)?ICIADPM-25 offers numerous benefits to participants\, beyond just gaining new knowledge. Key advantages include: \n\nExpert Career Guidance: Attendees will receive valuable advice from leading experts in the field of Information Architecture\, helping them navigate their careers and research endeavors. \n\n\nNetworking Opportunities: Meet globally renowned specialists and form connections that could lead to future collaborations and opportunities. \n\n\nAcademic Publishing Opportunities: Connect with esteemed publishers\, journal editors\, and other figures in academic publishing\, providing chances to showcase your research. \n\n\nHands-on Learning: Engage in interactive sessions that offer clear\, practical tutorials on the latest tools and techniques in the field. \n\nThe ICIADPM-25 conference promises to be a transformative event for everyone involved\, offering resources\, knowledge\, and networking that will shape the future of Information Architecture\, Design Principles\, and Methods.
URL:https://archup.net/event/international-conference-on-information-architecture-design-principles-and-methods-2025/
LOCATION:NOVOTEL ABU DHABI AL BUSTAN\, Shk. Rashid Bin Saeed St - St - Rabdan\, Abu Dhabi\, United Arab Emirates
ATTACH;FMTTYPE=image/jpeg:https://archup.net/wp-content/uploads/2025/05/International-Conference-on-Information-Architecture-Design-Principles-and-Methods-2025.jpg
END:VEVENT
END:VCALENDAR