BEGIN:VCALENDAR
VERSION:2.0
PRODID:-//ArchUp - ECPv6.15.20//NONSGML v1.0//EN
CALSCALE:GREGORIAN
METHOD:PUBLISH
X-WR-CALNAME:ArchUp
X-ORIGINAL-URL:https://archup.net
X-WR-CALDESC:Events for ArchUp
REFRESH-INTERVAL;VALUE=DURATION:PT1H
X-Robots-Tag:noindex
X-PUBLISHED-TTL:PT1H
BEGIN:VTIMEZONE
TZID:UTC
BEGIN:STANDARD
TZOFFSETFROM:+0000
TZOFFSETTO:+0000
TZNAME:UTC
DTSTART:20250101T000000
END:STANDARD
END:VTIMEZONE
BEGIN:VEVENT
DTSTART;TZID=UTC:20260304T080000
DTEND;TZID=UTC:20260305T170000
DTSTAMP:20260419T211859
CREATED:20260129T224807Z
LAST-MODIFIED:20260129T224807Z
UID:10001103-1772611200-1772730000@archup.net
SUMMARY:Digital Built World Summit 2026
DESCRIPTION:Overview\n\n The Digital Built World Summit 2026 serves as a professional conference and exhibition which explores digital innovations in the construction industry. The event occurs in Sydney Australia and focuses on digital transformation throughout the fields of architecture engineering construction and infrastructure development. \n\n Focus\n\n The summit examines how digital technologies develop the built environment through their applications of AI digital twins BIM systems data analytics and automation and smart infrastructure. The summit presents these technologies as complete industry systems which enable organizations to manage their assets throughout the entire asset lifecycle from planning to maintenance. \n\n Program\n\n The program provides various activities which include conference sessions and panel discussions and case studies and innovation showcases. The activities include digital delivery strategy development and AI system integration and digital engineering workflow design and industry collaboration and post-summit masterclasses which teach digital infrastructure implementation and leadership skills. \n\n Audience\n\n The event targets architects and engineers and infrastructure professionals and digital engineers and policymakers and technology providers and industry leaders who work in the built environment sector. \n\n Event Details\n\n \n\n\n\nDates\nVenue\nEvent Type\nAccess\nFees\n\n\n4 March — 5 March 2026\nDoltone House Darling Island\, Sydney\, Australia\nConference\, exhibition\, and networking summit\nProfessional access\nPaid registration; packages available for conference and masterclass\n\n\n\n\n\n ✦ ArchUp Editorial Insight\n\n The Digital Built World Summit 2026 identifies digital technologies as essential elements which shape present-day construction practices through their impact on operational processes and automated systems and their use in data-based project execution. The program determines its architectural framework through the implementation of technical systems which industries use at full operational capacity while excluding design-based spatial theories and experimental design work. The content focuses on BIM and AI and digital twin technologies because these fields currently define professional practice. The discussion examines operational efficiency but fails to analyze how digital tools affect architectural authorship and spatial design and urban development over time. \n\n Closing Note\n\n Digital Built World Summit functions as a technical platform which serves industry professionals instead of presenting itself as a design festival for public audiences. Digital transformation practices which professionals discuss at this event represent its main value because the event shows little interest in cultural or experimental architectural work.  Explore the Latest Architecture Exhibitions & ConferencesArchUp offers daily updates on top global architectural exhibitions\, design conferences\, and professional art and design forums. Follow key architecture competitions\, check official results\, and stay informed through the latest architectural news worldwide. ArchUp is your encyclopedic hub for discovering events and design-driven opportunities across the globe.
URL:https://archup.net/event/digital-built-world-summit-2026/
LOCATION:Doltone House Darling Island\, 48 Pirrama Rd\, Pyrmont NSW 2009\, Australia\, Sydney\, Sydney\, 61\, Australia
CATEGORIES:Conferences,Exhibitions
ATTACH;FMTTYPE=image/webp:https://archup.net/wp-content/uploads/2026/01/DBW25-SEO-LI-AD-Banner-1024x448-1.webp
ORGANIZER;CN="FuturePlace":MAILTO:info@futureplace.tech
END:VEVENT
END:VCALENDAR