BEGIN:VCALENDAR
VERSION:2.0
PRODID:-//ArchUp - ECPv6.15.20//NONSGML v1.0//EN
CALSCALE:GREGORIAN
METHOD:PUBLISH
X-WR-CALNAME:ArchUp
X-ORIGINAL-URL:https://archup.net
X-WR-CALDESC:Events for ArchUp
REFRESH-INTERVAL;VALUE=DURATION:PT1H
X-Robots-Tag:noindex
X-PUBLISHED-TTL:PT1H
BEGIN:VTIMEZONE
TZID:UTC
BEGIN:STANDARD
TZOFFSETFROM:+0000
TZOFFSETTO:+0000
TZNAME:UTC
DTSTART:20250101T000000
END:STANDARD
END:VTIMEZONE
BEGIN:VEVENT
DTSTART;TZID=UTC:20260124T080000
DTEND;TZID=UTC:20260125T170000
DTSTAMP:20260419T132421
CREATED:20260103T221906Z
LAST-MODIFIED:20260103T221906Z
UID:10001032-1769241600-1769360400@archup.net
SUMMARY:Riverside Home & Garden Show 2026
DESCRIPTION:Overview\n \n\nThe Riverside Home & Garden Show 2026 is a regional home and garden exhibition that will be held in Riverside\, California\, USA at the Riverside Convention Center. The two days event will offer a sneak peak to the products and services related to home improvement\, decoration\, landscaping and garden enhancements.\n Focus\nThis exhibition is primarily dedicated to the newest trends in home remodeling\, outdoor living\, and garden products. It gathers local builders\, designers\, contractors\, and exhibitors together to showcase the ideas for upgrading your house and naye with seasonal décor. For insight into similar design events\, see Interior Design Furnishing Expo 2026.\n\n \n Program\n \n\nThe Riverside Home & Garden Show presents a variety of vendor booths\, product demos\, and chances to interact with professionals in the fields of refurbishing and gardening. The event also has areas designated for the showcasing of different communities. If you are interested in discovering the ways in which exhibitions merge displays and networking\, do not miss DesignTO Festival 2026.\n\n \n “The Riverside Home & Garden Show blends product displays and practical ideas for homeowners with a community‑oriented showcase.”\n\n\n \n\nParticipants will have the opportunity to discover services relating to the interior enhancement\, outdoor upgrade\, and garden design areas. For a more comprehensive view on the different types of residential and lifestyle events\, check out Salone del Mobile Milano 2025.\n\n \n Audience\nOpen to homeowners\, design enthusiasts\, landscape professionals and anyone that might be interested in how to improve their homes and gardens.\n\nEvent Details\n\n \n\n\n\n\nItem\nInformation\n\n\nDates\nJanuary 24 – 25\, 2026\n\n\nVenue\nRiverside Convention Center\, Riverside\, California\, USA\n\n\nEvent Type\nExhibition / Trade Show\n\n\nAccess\nOpen to the public\n\n\nFees\nFree admission (some parking fees apply)\n\n\n\n\n \n ✦ ArchUp Editorial Insight\nThe Riverside Home & Garden Show 2026 is a regional fair that showcases the latest trends and innovations in home improvement\, landscaping and gardening\, plus\, it also focuses on practical solutions. It is a multi-faceted event with product displays\, vendor booths and community showcases\, which would help the homeowners and local professionals alike to come up with their ideas for renovation\, find the best solutions for outdoor living and get to know about the latest trends in seasonal décor. By this means\, the event not only presents the products but also the processes and networking opportunities that are available though the local industry but at the same time it does not have a formal reviewing or adjudicating\, thus\, making it an informative and commercially oriented forum rather than a platform for evaluated design projects.\n Closing Note\nThe Riverside Home & Garden Show 2026 is a regional event that showcases home and garden products and services. It is informal and community-oriented\, which is why it is beneficial to local homeowners and small business exhibitors.\n\n\n Explore the Latest Architecture Exhibitions & Conferences\n\nArchUp offers daily updates on top global architectural exhibitions\, design conferences\, and professional art and design forums. Follow key architecture competitions\, check official results\, and stay informed through the latest architectural news worldwide. ArchUp is your encyclopedic hub for discovering events and design-driven opportunities across the globe.
URL:https://archup.net/event/riverside-home-garden-show-2026/
LOCATION:Riverside Convention Center\, 3637 5th St\, Riverside\, CA 92501\, USA Riverside County\, United States
CATEGORIES:Exhibitions
ATTACH;FMTTYPE=image/webp:https://archup.net/wp-content/uploads/2026/01/RIVBY253-scaled.webp
END:VEVENT
END:VCALENDAR