BEGIN:VCALENDAR
VERSION:2.0
PRODID:-//ArchUp - ECPv6.15.20//NONSGML v1.0//EN
CALSCALE:GREGORIAN
METHOD:PUBLISH
X-WR-CALNAME:ArchUp
X-ORIGINAL-URL:https://archup.net
X-WR-CALDESC:Events for ArchUp
REFRESH-INTERVAL;VALUE=DURATION:PT1H
X-Robots-Tag:noindex
X-PUBLISHED-TTL:PT1H
BEGIN:VTIMEZONE
TZID:UTC
BEGIN:STANDARD
TZOFFSETFROM:+0000
TZOFFSETTO:+0000
TZNAME:UTC
DTSTART:20240101T000000
END:STANDARD
END:VTIMEZONE
BEGIN:VEVENT
DTSTART;TZID=UTC:20250523T080000
DTEND;TZID=UTC:20250526T170000
DTSTAMP:20260425T202438
CREATED:20241122T204745Z
LAST-MODIFIED:20250109T185042Z
UID:10000496-1747987200-1748278800@archup.net
SUMMARY:Palm Beach Home Design and Remodeling Show 2025 
DESCRIPTION:“A Wealth of Ideas Under One Roof”The Palm Beach Home Design and Remodeling Show 2025 continues its legacy as South Florida’s premier destination for cutting-edge trends in home design and improvement. Renowned for its over 40 years of innovation\, this event offers attendees a comprehensive experience in home design\, featuring valuable insights\, quality products\, and expert perspectives. What to ExpectThe show spans over 100\,000 square feet of exhibition space\, showcasing the latest advancements in: \nCustom Closets and Furniture\n\n\n\nSmart Home Technology and Security\n\n\n\nFine Art and Home Automation\nEngaging ExperiencesVisitors can enjoy: \nOne-on-One Product Demonstrations: Get hands-on experience with the newest innovations.\n\n\n\nDiscussion Panels: Gain insights from top industry professionals.\n\n\n\nSpectacular Exhibitions: Explore a variety of home design and remodeling ideas.\nA Trusted Name in DesignThe Palm Beach Home Design and Remodeling Show is consistently rated among the top 100 events in Building & Construction and Home & Office\, known for its: \nHigh-Quality Participants\n\n\n\nExceptional Cleanliness\n\n\n\nEffective Communication\nDon’t Miss South Florida’s Premier Home Design Event!Whether you’re seeking inspiration for a complete remodel or exploring the latest in smart home technologies\, the Palm Beach Home Design and Remodeling Show 2025 promises a wealth of ideas under one roof. For more on ArchUp: \nhttps://archup.net/trends-in-shower-tiles-that-are-here-to-stay/\n 
URL:https://archup.net/event/palm-beach-home-design-and-remodeling-show-2025/
LOCATION:Palm Beach County Convention Center
ATTACH;FMTTYPE=image/png:https://archup.net/wp-content/uploads/2024/11/Home-Design-Remodeling-Show.png
END:VEVENT
END:VCALENDAR