BEGIN:VCALENDAR
VERSION:2.0
PRODID:-//ArchUp - ECPv6.15.20//NONSGML v1.0//EN
CALSCALE:GREGORIAN
METHOD:PUBLISH
X-WR-CALNAME:ArchUp
X-ORIGINAL-URL:https://archup.net
X-WR-CALDESC:Events for ArchUp
REFRESH-INTERVAL;VALUE=DURATION:PT1H
X-Robots-Tag:noindex
X-PUBLISHED-TTL:PT1H
BEGIN:VTIMEZONE
TZID:America/Los_Angeles
BEGIN:DAYLIGHT
TZOFFSETFROM:-0800
TZOFFSETTO:-0700
TZNAME:PDT
DTSTART:20240310T100000
END:DAYLIGHT
BEGIN:STANDARD
TZOFFSETFROM:-0700
TZOFFSETTO:-0800
TZNAME:PST
DTSTART:20241103T090000
END:STANDARD
BEGIN:DAYLIGHT
TZOFFSETFROM:-0800
TZOFFSETTO:-0700
TZNAME:PDT
DTSTART:20250309T100000
END:DAYLIGHT
BEGIN:STANDARD
TZOFFSETFROM:-0700
TZOFFSETTO:-0800
TZNAME:PST
DTSTART:20251102T090000
END:STANDARD
BEGIN:DAYLIGHT
TZOFFSETFROM:-0800
TZOFFSETTO:-0700
TZNAME:PDT
DTSTART:20260308T100000
END:DAYLIGHT
BEGIN:STANDARD
TZOFFSETFROM:-0700
TZOFFSETTO:-0800
TZNAME:PST
DTSTART:20261101T090000
END:STANDARD
END:VTIMEZONE
BEGIN:VEVENT
DTSTART;TZID=America/Los_Angeles:20250520T080000
DTEND;TZID=America/Los_Angeles:20250521T170000
DTSTAMP:20260424T174850
CREATED:20250511T153231Z
LAST-MODIFIED:20250511T153231Z
UID:10000713-1747728000-1747846800@archup.net
SUMMARY:International Conference on Machine Learning in Architecture 2025
DESCRIPTION:OverviewThe International Conference on Machine Learning in Architecture is organized by the Institute for Global Academic Excellence (IGAE) and will take place on 20th – 21st May 2025 in Dammam\, Saudi Arabia. The theme of the conference is “Machine Learning in Architecture”\, aimed at fostering broad discussions across various disciplines\, including academia and industry. The conference will feature distinguished addresses\, plenary sessions\, workshops\, symposiums\, as well as oral and poster presentations\, virtual/video presentations\, and webinars. It provides a unique platform for universities\, colleges\, academicians\, and researchers to engage in cross-disciplinary knowledge exchange. ObjectiveThe goal of the International Conference on Machine Learning in Architecture is to become the leading annual conference in this rapidly evolving field. IGAE aims to bring together scholars\, researchers\, and professionals from around the world to discuss advancements in Machine Learning applications in Architecture. The conference will offer a space to exchange ideas\, explore innovations\, and develop new collaborations in this interdisciplinary field. Scope and Benefits\n\nPublication of Accepted Abstracts: All accepted abstracts will be published in the conference proceedings. \n\n\nJournal Publication: Accepted papers will be published in relevant international journals\, expanding the reach and impact of the research. \n\n\nDigital Object Identifier (DOI): Each accepted paper will be assigned a DOI number\, ensuring global recognition and easy access via doi.sciencesociety.co. \n\n\nAwards: The conference will recognize best research papers and best paper presentations\, encouraging excellence in research. \n\n\nIGAE Delegates Exchange Programme (IDEP): Exceptional delegates with brilliant research initiatives will be selected to participate in research and development activities at international organizations with which IGAE has collaborations. \n\n\nResearch Funding: Delegates with innovative research ideas that benefit humanity will have the opportunity to receive funding through the IGAE Research Funding Scheme. \n\nAbout IGAEIGAE is a leading professional organization focused on the development and promotion of research in the fields of engineering and technology. The institute has played a significant role in advancing science and technology\, supporting sustainable development and technical innovation. IGAE is supported by a distinguished International Advisory Board (IAB)\, with members from across the globe. The organization collaborates with top universities and research centers\, fostering technical knowledge exchange among students and professionals alike.
URL:https://archup.net/event/international-conference-on-machine-learning-in-architecture-2025/
LOCATION:Moon Hotel\, Prince Mohammed Bin Fahd Road\, Al Mazruiyah\, Dammam 32414\,\, Dammam\, Saudi Arabia
ATTACH;FMTTYPE=image/jpeg:https://archup.net/wp-content/uploads/2025/05/IGAE-Type-1.jpg
END:VEVENT
END:VCALENDAR