BEGIN:VCALENDAR
VERSION:2.0
PRODID:-//ArchUp - ECPv6.15.20//NONSGML v1.0//EN
CALSCALE:GREGORIAN
METHOD:PUBLISH
X-ORIGINAL-URL:https://archup.net
X-WR-CALDESC:Events for ArchUp
REFRESH-INTERVAL;VALUE=DURATION:PT1H
X-Robots-Tag:noindex
X-PUBLISHED-TTL:PT1H
BEGIN:VTIMEZONE
TZID:UTC
BEGIN:STANDARD
TZOFFSETFROM:+0000
TZOFFSETTO:+0000
TZNAME:UTC
DTSTART:20250101T000000
END:STANDARD
END:VTIMEZONE
BEGIN:VEVENT
DTSTART;TZID=UTC:20260514T080000
DTEND;TZID=UTC:20260516T170000
DTSTAMP:20260422T192647
CREATED:20260328T192650Z
LAST-MODIFIED:20260328T192650Z
UID:10001363-1778745600-1778950800@archup.net
SUMMARY:Workspace Expo 2026
DESCRIPTION:Overview\nWorkspace Expo returns for its third edition at Egypt’s International Exhibition Center (ICEC) in New Cairo\, May 14–16\, 2026. Organized by International Conferences & Exhibitions Company (ICEC)\, the event positions itself as Egypt’s and the wider Middle East’s leading trade platform for workspace interiors\, office solutions\, and building technologies. It runs alongside co-located exhibitions forming a cluster of aligned industry events under one roof. \nThe show targets the growing demand generated by Egypt’s mega-administrative and commercial development pipeline\, from the New Administrative Capital and large-scale mixed-use projects to educational\, hospitality\, and healthcare facilities\, connecting suppliers\, manufacturers\, and interior designers with the developers and project owners driving these commissions. \nFocus\nWorkspace Expo covers nine product and technology categories spanning the full interior fit-out and workspace technology spectrum. The show deliberately combines physical interior products with digital and smart office systems\, reflecting the convergence of these domains in contemporary architectural and fit-out practice. \nOffice Interiors\nOffice Furniture\nTelecommunications\nLighting Solutions\nOffice Technology\nInternet & Networks\nAudio-Visual & Conferencing Solutions\nOffice Smart Solutions\nSmart Office Equipment\nThe leading business platform in Egypt and the Middle East offering workspace interiors and innovative solutions for mega workspace projects and the upgrade of administrative\, educational\, hospital\, home office\, and hospitality projects.\nWorkspace Expo 2026 Official Description \nProgram\nStage Talks\nWorkspace Expo features a professional series of live in-person dialogues targeting the Egyptian administrative new project and design solutions communities. The stage talks aim to inspire debate on the most pressing issues in the business complex industry and to build relationships between developers\, design professionals\, and investors. The 2026 agenda had not been published at the time of writing; attendees are advised to follow the official website for updates. \nPanel Discussions\nThe show includes structured panel discussions designed to generate spontaneous interaction among participants. These sessions provide attendees with updates on field challenges while presenting the latest knowledge\, innovations\, trends\, and tendencies in workspace design. Speakers can apply directly via the event’s official application form. \nHosted Buyer Programme\nA Hosted Buyer Programme operates in parallel with the exhibition\, connecting pre-qualified international buyers with exhibitors in structured meeting formats. This programme is managed via the organizer’s parallel The Design Show platform. \nSponsors & Partners\nConfirmed sponsors for 2026 include Next Step\, Schneider Electric\, Meuble El Chark\, Style Design\, Lecico\, and MHDH. The show’s partner roster includes over 80 Egyptian and regional companies spanning furniture\, lighting\, ceramics\, textiles\, glass\, automation\, and fit-out services\, among them Frezza\, Ideal Standard\, Bagno Design\, Gewiss\, Clarus\, and HD Smart Glass\, alongside Egyptian brands such as Mazloum Home\, Decorama\, Holztec\, and EGYWood. \nAudience\nThe show targets trade professionals: interior designers\, architects\, fit-out contractors\, facility managers\, procurement specialists\, hotel owners and operators\, educational institution administrators\, hospital project managers\, and real estate developers active in Egypt’s rapidly expanding construction and fit-out market. The visitor profile reflects the range of sectors driving demand for workspace solutions in Egypt\, public sector administrative projects\, private sector commercial developments\, and the ongoing build-out of the New Administrative Capital and satellite cities. Those tracking urban development in Egypt and the broader MENA region will find the exhibitor mix a useful proxy for where fit-out investment is currently directed. \nEvent Details\n\n\n\nDates\nMay 14–16\, 2026\n\n\nVenue\nEgypt’s International Exhibition Center (ICEC)\, New Cairo\, Egypt\n\n\nEdition\n3rd International Workspace Solutions & Interiors Exhibition\n\n\nEvent Type\nTrade exhibition\, stage talks\, panel discussions\n\n\nAdmission / Fees\nFree visitor registration via workspace-egypt.com (registration form required)\n\n\nCo-located Events\nAligned industry exhibitions — see official site\n\n\nOrganizer\nInternational Conferences & Exhibitions Company (ICEC)\n\n\nContact\ninfo@icec-events.com\n\n\n\n\n✦ ArchUp Editorial Insight\nWorkspace Expo occupies a specific niche in Egypt’s event calendar: it is not a broad construction or architecture show but a focused platform for the fit-out and workspace technology sector at a moment when Egypt’s administrative and commercial construction pipeline is generating substantial interior procurement demand. Its third edition signals that the format has found a sustainable audience. The combination of physical interior products with smart office technology and AV systems reflects a real convergence in how contemporary workspaces are being specified and delivered\, but the show’s intellectual depth depends entirely on whether its stage talks and panel discussions engage critically with how these environments are actually affecting the people who work in them\, or remain at the level of product endorsement. \n\n\nClosing Note\nFor suppliers\, manufacturers\, and designers active in Egypt’s office and commercial interior market\, Workspace Expo is the most concentrated local access point to the buyers and decision-makers shaping that sector’s current cycle of investment. Its New Cairo location places it directly within the geography of Egypt’s most active development zone\, making it a commercially logical venue for an event of this kind.
URL:https://archup.net/event/workspace-expo-2026/
LOCATION:Egypt’s International Exhibition Center (EIEC)\, Egypt's International Exhibition Center - New Cairo (EIEC)\, New Cairo\, New Cairo\, -\, Egypt
CATEGORIES:Exhibitions
ATTACH;FMTTYPE=image/jpeg:https://archup.net/wp-content/uploads/2026/03/ws.jpg
END:VEVENT
END:VCALENDAR