BEGIN:VCALENDAR
VERSION:2.0
PRODID:-//ArchUp - ECPv6.15.20//NONSGML v1.0//EN
CALSCALE:GREGORIAN
METHOD:PUBLISH
X-WR-CALNAME:ArchUp
X-ORIGINAL-URL:https://archup.net
X-WR-CALDESC:Events for ArchUp
REFRESH-INTERVAL;VALUE=DURATION:PT1H
X-Robots-Tag:noindex
X-PUBLISHED-TTL:PT1H
BEGIN:VTIMEZONE
TZID:America/Los_Angeles
BEGIN:DAYLIGHT
TZOFFSETFROM:-0800
TZOFFSETTO:-0700
TZNAME:PDT
DTSTART:20240310T100000
END:DAYLIGHT
BEGIN:STANDARD
TZOFFSETFROM:-0700
TZOFFSETTO:-0800
TZNAME:PST
DTSTART:20241103T090000
END:STANDARD
BEGIN:DAYLIGHT
TZOFFSETFROM:-0800
TZOFFSETTO:-0700
TZNAME:PDT
DTSTART:20250309T100000
END:DAYLIGHT
BEGIN:STANDARD
TZOFFSETFROM:-0700
TZOFFSETTO:-0800
TZNAME:PST
DTSTART:20251102T090000
END:STANDARD
BEGIN:DAYLIGHT
TZOFFSETFROM:-0800
TZOFFSETTO:-0700
TZNAME:PDT
DTSTART:20260308T100000
END:DAYLIGHT
BEGIN:STANDARD
TZOFFSETFROM:-0700
TZOFFSETTO:-0800
TZNAME:PST
DTSTART:20261101T090000
END:STANDARD
END:VTIMEZONE
BEGIN:VEVENT
DTSTART;TZID=America/Los_Angeles:20250827T080000
DTEND;TZID=America/Los_Angeles:20250829T170000
DTSTAMP:20260420T232924
CREATED:20250621T123128Z
LAST-MODIFIED:20250621T123128Z
UID:10000789-1756281600-1756486800@archup.net
SUMMARY:MBAM OneBuild 2025 (MBAMOneBuild)
DESCRIPTION:OverviewMBAM OneBuild 2025 returns as Malaysia’s exclusive and most influential trade exhibition dedicated to the construction and infrastructure sector. Taking place from 27 to 29 August 2025 at the prestigious Kuala Lumpur Convention Centre (KLCC)\, the event spans 5\,500 square meters\, hosting 200 exhibitors\, 280 booths\, and welcoming over 8\,000 trade visitors from around the globe. With its focus on technological advancement\, sustainability\, and industry transformation\, MBAM OneBuild continues to serve as the heartbeat of Malaysia’s evolving built environment. Why You Should Participate\n\nUnmatched Industry Access: Engage directly with decision-makers\, innovators\, and suppliers across the full construction value chain. \n\n\nInnovation on Display: Explore pioneering technologies such as hydrogen-powered machinery\, autonomous equipment\, and AI simulators. \n\n\nGlobal Networking: Forge international partnerships and gain exposure in one of Southeast Asia’s fastest-growing construction markets. \n\n\nSustainability Focus: Stay ahead of environmental trends with eco-friendly tools and strategies designed for a greener future. \n\n\nProfessional Development: Gain insights through knowledge-sharing platforms\, expert demonstrations\, and real-time innovations. \n\nKey SegmentsMBAM OneBuild 2025 is structured into three core exhibition segments\, offering a comprehensive overview of the industry: \n\n\n\n\nSegment\nFocus\n\n\n\n\nConstruction & Infrastructure\nAdvanced technologies and practices transforming the built environment.\n\n\nConstruction Hardware\nTools\, materials\, and systems supporting modern construction demands.\n\n\nConstruction Machinery & Equipment\nThe latest in operational machinery\, robotics\, and automation for enhanced site performance.\n\n\n\n\n\n\n\nSpecial Features\n\nGreen Technologies Pavilion showcasing low-emission and energy-efficient innovations. \n\n\nLive Demonstration Zones for autonomous machinery\, simulation training tools\, and equipment testing. \n\n\nStart-Up Showcase highlighting emerging companies driving construction digitization. \n\n\nInternational Delegation Program to connect global buyers and local suppliers. \n\nCo-located EventMBAM OneBuild 2025 will be co-located with OneWare – Malaysia International Hardware Technology Exhibition\, adding greater depth to the hardware sector. Together\, these events form a synergistic platform covering all aspects of construction—from planning and design to hardware and execution. Event Details\n\n\n\n\nFeature\nDetails\n\n\n\n\nDate\n27–29 August 2025\n\n\nVenue\nKuala Lumpur Convention Centre (KLCC)\, Malaysia\n\n\nExhibition Space\n5\,500 sqm\n\n\nExhibitors\n200\n\n\nBooths\n280\n\n\nTrade Visitors Expected\n8\,000+\n\n\nCo-Located Event\nOneWare – Malaysia International Hardware Tech Exhibition\n\n\n\n\n\n\n\n✦ ArchUp Editorial InsightFrom an editorial standpoint\, MBAM OneBuild 2025 represents a crucial convergence of technology\, sustainability\, and global collaboration within the construction sector. What distinguishes this edition is its strategic push toward carbon-reducing machinery and digitalized training environments\, reflecting a thoughtful response to the construction industry’s environmental and operational challenges. The co-location with OneWare enhances its value proposition\, merging hardware innovation with macro-scale construction infrastructure. However\, clearer communication about seminar schedules\, keynote sessions\, and participation tiers would benefit new attendees aiming for deeper engagement. We recommend this event for architectural firms\, contractors\, suppliers\, and policymakers aiming to position themselves at the forefront of the global construction transformation. Explore More with ArchUpArchUp documents the evolving profession of architects worldwide\, from career insights and research to project profiles and industry news.Our editorial team publishes global salary trends\, career advice\, and opportunities for emerging talents. Learn more on our About page or Contact us to collaborate. Construction Progresses on New Office Tower Along King Fahd Road in Riyadh  The Angel of History and the Ghosts of Boston: Robert Campbell’s Vision of Urban Memory and Progress  Bab Samhan Hotel Opens Its Doors in Diriyah\, Blending Heritage with Modern Comfort
URL:https://archup.net/event/mbam-onebuild-2025-mbamonebuild/
LOCATION:Kuala Lumpur Convention Centre\, 50088\, Kuala Lumpur\, Malaysia
CATEGORIES:Exhibitions
ATTACH;FMTTYPE=image/avif:https://archup.net/wp-content/uploads/2025/06/MBAM-OneBuild-2025-MBAMOneBuild-.avif
END:VEVENT
END:VCALENDAR