BEGIN:VCALENDAR
VERSION:2.0
PRODID:-//ArchUp - ECPv6.15.20//NONSGML v1.0//EN
CALSCALE:GREGORIAN
METHOD:PUBLISH
X-WR-CALNAME:ArchUp
X-ORIGINAL-URL:https://archup.net
X-WR-CALDESC:Events for ArchUp
REFRESH-INTERVAL;VALUE=DURATION:PT1H
X-Robots-Tag:noindex
X-PUBLISHED-TTL:PT1H
BEGIN:VTIMEZONE
TZID:UTC
BEGIN:STANDARD
TZOFFSETFROM:+0000
TZOFFSETTO:+0000
TZNAME:UTC
DTSTART:20250101T000000
END:STANDARD
END:VTIMEZONE
BEGIN:VEVENT
DTSTART;TZID=UTC:20260624T080000
DTEND;TZID=UTC:20260626T170000
DTSTAMP:20260422T133252
CREATED:20251231T223346Z
LAST-MODIFIED:20251231T223346Z
UID:10001016-1782288000-1782493200@archup.net
SUMMARY:5th International Placemaking Week 2026
DESCRIPTION:Event BriefPlacemaking Week 2026 is the 5th global gathering of placemakers that highlights practical learning\, strategy sharing\, and the exploration of public space ideas. The event sees the collaboration of practitioners\, urban planners\, community leaders\, and researchers who will present and discuss the different methods that ultimately bring about lively public facilities and put community-centered initiatives in the foreground. It is set up as a professional forum where knowledge can be exchanged and practical activities in the field of public space development can be carried out. IntentThis gathering is supposed to be a melting pot of people whose work and skills are related to placemaking\, urban design\, public space activation\, and community engagement across the sectors and disciplines that exist. They will be sharing learning and concrete strategies for advancing placemaking both locally and globally. PurposePlacemaking Week 2026 is designed to be a dynamic place where workshops\, sessions\, experiential events\, and discussions are taking place helping the participants to discover real-world public places and come up with the appropriate methods and strategies for community strengthening through place-based actions. RequirementsAs a rule\, participation requires the registration for the whole week’s program. The presenters and facilitators are chosen through the call for proposals process which is open until fall 2025; those whose proposals are accepted will be included in the schedule. Review CommitteeA committee consisting of representatives from the conference partners and public space practice experts reviewed the proposals and selected the contributions based on such criteria as content quality and the ability to advance placemaking discourse. Fees\n\n\n\n\nCategory\nDetails\n\n\n\n\nRegistration\nEarly registration details to be announced (expected February 2026)\n\n\nSpeaker registration (approx)\n$295 USD *estimated based on earlier call for proposers\n\n\n\n\nRewards\n\n\n\n\nType\nDetails\n\n\n\n\nProfessional benefit\nOpportunity to engage directly with placemaking practitioners\, learn hands‑on strategies\, and expand professional network in public space practice\n\n\n\n\nDates\n\n\n\n\nItem\nInformation\n\n\n\n\nEvent period\nJune 24 to June 26 2026\n\n\nHost city\nDetroit Michigan United States\n\n\n\n\n✦ ArchUp Editorial InsightPlacemaking Week 2026 is a platform for professionals in the public space industry and urban planning to discuss and share their experiences. The event is a great opportunity to learn about and try out different techniques for making and improving urban spaces from the perspectives of architecture and urban design. The review committee evaluates all submitted papers according to their quality and relevance\, but there is no formal competition of urban design\, and the main purpose of the event is to share knowledge and meet people. The event includes structured workshops and hands-on activities that provide insights applicable to real-life placemaking projects. Thus\, for professional development\, the event is seen as valuable rather than a competition for recognition. Conclusion and Final ThoughtsPlacemaking Week 2026 is a forum for the professional community of placemaking and urban planning to interface and share. The event is designed to support hands‐on learning\, interactive sessions and experience‐driven engagement with public spaces rather than focus on product‐centric approaches or market‐oriented trade shows. The registration details and speaker engagement are disclosed but the specific fee schedules and detailed program content are likely to be released nearer to early 2026. The creative use of space involved in the event and the knowledge sharing that takes place based on the collaboration among the participants are the principal sources of the event’s value. Explore the Latest Architecture Exhibitions & Conferences ArchUp offers daily updates on top global architectural exhibitions\, design conferences\, and professional art and design forums. Follow key architecture competitions\, check official results\, and stay informed through the latest architectural news worldwide. ArchUp is your encyclopedic hub for discovering events and design-driven opportunities across the globe.
URL:https://archup.net/event/5th-international-placemaking-week-2026/
LOCATION:Detroit\, Michigan\, United States
CATEGORIES:Workshops
ATTACH;FMTTYPE=image/png:https://archup.net/wp-content/uploads/2025/12/68cb0b4bae46fe3b4e8b909e_PW5-Sponsorship-Package-Cover.png
END:VEVENT
BEGIN:VEVENT
DTSTART;TZID=UTC:20260624T080000
DTEND;TZID=UTC:20260626T170000
DTSTAMP:20260422T133252
CREATED:20260303T204428Z
LAST-MODIFIED:20260303T204428Z
UID:10001269-1782288000-1782493200@archup.net
SUMMARY:Placemaking Week 2026
DESCRIPTION:OverviewPlacemaking Week 2026 is a global conference bringing together placemakers\, urban designers\, community leaders\, and city stakeholders for three days of immersive learning\, networking\, and hands-on workshops. The event emphasizes leaving a lasting public space legacy in host cities and promotes knowledge exchange across disciplines and sectors.\n Theme\nThe 2026 edition\, hosted in Detroit\, Michigan\, USA\, carries the theme: “From Recovery to Resilience through Placemaking”. Inspired by Detroit’s journey from economic hardship and population decline to urban resurgence\, the conference explores how community-centered design and placemaking strategies can help cities tackle contemporary challenges and foster resilience.\n Program at a Glance\n\n\nDate\nEvent\n\n\nTuesday\, June 23\nPre-event Registration (Evening)\n\n\nWednesday\, June 24\nOpening Plenary (Morning)\, Mobile Workshops (Afternoon)\, Opening Reception (Evening)\n\n\nThursday\, June 25\nPlenary Session (Morning)\, Breakout Sessions (Afternoon)\, Side Events (Evening)\n\n\nFriday\, June 26\nBreakout Sessions (Morning & Afternoon)\, Closing Reception (Evening)\n\n\nHighlights & Context\nDetroit’s remarkable recovery provides the perfect setting for Placemaking Week. Key revitalization projects include Campus Martius Park\, the Riverfront\, Eastern Market\, the Joe Louis Greenway\, and neighborhood parks\, demonstrating how strategic placemaking transforms neglected areas into thriving destinations.\n\nAttendees will explore these sites through mobile workshops and site visits\, gaining practical insights into community-driven urban design\, social engagement\, and sustainable placemaking strategies that strengthen civic pride and identity.\n Who Should Attend\n 	Urban designers and architects\n 	Community leaders and planners\n 	City officials and policymakers\n 	Nonprofit and civic organizations\n 	Academics and students in urban studies\, architecture\, and social innovation\nEvent Details\n\n\nDates\nJune 23–26\, 2026\n\n\nLocation\nDetroit\, Michigan\, USA\n\n\nType\nConference / Workshop\n\n\nHosts\nPlacemaking Week & Downtown Detroit Partnership\n\n\nWebsite\nhttps://www.placemakingweek.com\n\n\n✦ ArchUp Editorial Insight\nPlacemaking Week 2026 in Detroit provides an immersive platform for architects\, urban designers\, and community leaders to explore inclusive\, resilient urban design through workshops\, plenaries\, and on-site visits to revitalized spaces like Campus Martius Park and the Riverfront\, offering practical strategies for fostering civic engagement\, social interaction\, and long-term public space transformation.\n Conclusion\nPlacemaking Week 2026 in Detroit offers an unparalleled opportunity to engage with placemaking strategies in a city that exemplifies resilience and reinvention. Through workshops\, plenaries\, and on-site experiences\, attendees will gain actionable insights into designing inclusive\, thriving public spaces and fostering long-term urban resilience.\n Explore the Latest Architecture Exhibitions & Conferences\n\nArchUp offers daily updates on top global architectural exhibitions\, design conferences\, and professional art and design forums. Follow key architecture competitions\, check official results\, and stay informed through the latest architectural news worldwide. ArchUp is your encyclopedic hub for discovering events and design-driven opportunities across the globe.
URL:https://archup.net/event/placemaking-week-2026/
LOCATION:Detroit\, Michigan\, United States
CATEGORIES:Conferences,Workshops
ATTACH;FMTTYPE=image/png:https://archup.net/wp-content/uploads/2026/03/68926a8747c3d16c0b7d846a_bce9e533ada085736af85b5c6d59afac_PW4-logo-white.png
END:VEVENT
END:VCALENDAR