BEGIN:VCALENDAR
VERSION:2.0
PRODID:-//ArchUp - ECPv6.15.20//NONSGML v1.0//EN
CALSCALE:GREGORIAN
METHOD:PUBLISH
X-ORIGINAL-URL:https://archup.net
X-WR-CALDESC:Events for ArchUp
REFRESH-INTERVAL;VALUE=DURATION:PT1H
X-Robots-Tag:noindex
X-PUBLISHED-TTL:PT1H
BEGIN:VTIMEZONE
TZID:America/Los_Angeles
BEGIN:DAYLIGHT
TZOFFSETFROM:-0800
TZOFFSETTO:-0700
TZNAME:PDT
DTSTART:20240310T100000
END:DAYLIGHT
BEGIN:STANDARD
TZOFFSETFROM:-0700
TZOFFSETTO:-0800
TZNAME:PST
DTSTART:20241103T090000
END:STANDARD
BEGIN:DAYLIGHT
TZOFFSETFROM:-0800
TZOFFSETTO:-0700
TZNAME:PDT
DTSTART:20250309T100000
END:DAYLIGHT
BEGIN:STANDARD
TZOFFSETFROM:-0700
TZOFFSETTO:-0800
TZNAME:PST
DTSTART:20251102T090000
END:STANDARD
BEGIN:DAYLIGHT
TZOFFSETFROM:-0800
TZOFFSETTO:-0700
TZNAME:PDT
DTSTART:20260308T100000
END:DAYLIGHT
BEGIN:STANDARD
TZOFFSETFROM:-0700
TZOFFSETTO:-0800
TZNAME:PST
DTSTART:20261101T090000
END:STANDARD
END:VTIMEZONE
BEGIN:VEVENT
DTSTART;TZID=America/Los_Angeles:20250430T080000
DTEND;TZID=America/Los_Angeles:20250504T170000
DTSTAMP:20260423T005416
CREATED:20250428T171325Z
LAST-MODIFIED:20250428T171325Z
UID:10000703-1746000000-1746378000@archup.net
SUMMARY:Society of Architectural Historians 2025 Conference: ATLANTA
DESCRIPTION:The Society of Architectural Historians (SAH) will host its 78th Annual International Conference in Atlanta from April 30 to May 4\, 2025. This conference provides a unique platform for architectural historians\, architects\, museum professionals\, and preservationists to come together and engage in discussions that span the history of architecture\, landscapes\, and curated spaces. It will also highlight the roles of the authors and occupants of these spaces throughout history. The event will bring together more than 500 professionals from diverse backgrounds to explore the latest research on a broad array of architectural topics\, offering insights into the built environment from both historical and contemporary perspectives. Why You Should ParticipateThe SAH 2025 Conference is an excellent opportunity to: \n\nGain knowledge from the latest research on architecture and art spanning different periods and geographies. \n\n\nEarn Continuing Education Units (CEUs): As an AIA CES Approved Provider\, attendees can earn up to 2.25 Learning Units (LUs) for each complete paper session they attend. \n\n\nEngage in meaningful discussions with professionals\, experts\, and peers through roundtable discussions and workshops. \n\n\nExplore diverse topics\, including housing adaptation\, gender\, race\, urbanism\, preservation\, and more\, all while fostering cross-disciplinary collaborations. \n\n\nNetwork with architects\, art historians\, museum professionals\, and preservationists from around the world. \n\nKey Highlights\n\nEvent Type: International conference \n\n\nLocation: Atlanta\, Georgia\, USA \n\n\nDates: April 30–May 4\, 2025 \n\n\nTarget Audience: Architectural historians\, architects\, museum professionals\, preservationists \n\n\nActivities: \n\n\nKeynote talks by renowned experts in the field \n\n\nRoundtable discussions on diverse topics such as race\, wealth\, and gender in architecture \n\n\nWorkshops for professional development and skill enhancement \n\n\nNetworking receptions for sharing ideas and forming collaborations \n\n\nSAH’s annual awards ceremony recognizing outstanding contributions to the field \n\n\nPublic architecture tours exploring the history and development of Atlanta’s urban landscape \n\n\n\nThemes and TopicsThe conference will feature a variety of thought-provoking topics\, including: \n\nHousing and Adaptation: How architecture evolves to meet changing needs. \n\n\nGender and Nature: Exploring how gender and the environment intersect in architectural history. \n\n\nRace and Wealth: Examining how race and economic status have shaped the built environment. \n\n\nHealth and Urbanism: The relationship between public health and urban planning. \n\n\nSound and Silence: The role of acoustics in architectural spaces. \n\n\nErasure and Resistance: Discussing how certain architectural histories have been overlooked or erased. \n\n\nPreservation and Maintenance: Strategies for maintaining and preserving historic buildings and landscapes. \n\n\nQueer Expression: The expression of queer identities through architecture and design. \n\nSeveral sessions will address the local architectural history of Atlanta and its broader implications\, including the reframing of African American contributions to the built environment and the systemic harm caused by biased design practices. The public architecture tours will delve deeper into how themes such as race\, religion\, and community creation are manifested in Atlanta’s architectural landscape. Entry Fees\n\n\n\n\nParticipant Type\nFee (USD)\n\n\n\n\nGeneral Attendee\n$300\n\n\nSAH Members\n$250\n\n\nStudent Registration\n$150\n\n\n\n\nHow to JoinTo participate in the Society of Architectural Historians 2025 Conference\, follow these steps: \n\nReview the conference program to find sessions and topics of interest. \n\n\nRegister through the SAH website (sah.org/2025). \n\n\nSubmit your registration fee and confirm your participation. \n\n\nPrepare to engage in meaningful discussions and explore new ideas at the conference.
URL:https://archup.net/event/society-of-architectural-historians-2025-conference-atlanta/
LOCATION:Hilton Atlanta\, 255 Courtland Street NE\, Atlanta\, GA 30303\, Georgia\, United States
ATTACH;FMTTYPE=image/jpeg:https://archup.net/wp-content/uploads/2025/04/Society-of-Architectural-Historians-2025-Conference-ATLANTA-.jpg
END:VEVENT
END:VCALENDAR