BEGIN:VCALENDAR
VERSION:2.0
PRODID:-//ArchUp - ECPv6.15.20//NONSGML v1.0//EN
CALSCALE:GREGORIAN
METHOD:PUBLISH
X-WR-CALNAME:ArchUp
X-ORIGINAL-URL:https://archup.net
X-WR-CALDESC:Events for ArchUp
REFRESH-INTERVAL;VALUE=DURATION:PT1H
X-Robots-Tag:noindex
X-PUBLISHED-TTL:PT1H
BEGIN:VTIMEZONE
TZID:UTC
BEGIN:STANDARD
TZOFFSETFROM:+0000
TZOFFSETTO:+0000
TZNAME:UTC
DTSTART:20250101T000000
END:STANDARD
END:VTIMEZONE
BEGIN:VEVENT
DTSTART;TZID=UTC:20260410T080000
DTEND;TZID=UTC:20260612T170000
DTSTAMP:20260424T205315
CREATED:20260423T173351Z
LAST-MODIFIED:20260423T173411Z
UID:10001417-1775808000-1781283600@archup.net
SUMMARY:Desire to Create: Baťa's Architecture of Belonging 2026
DESCRIPTION:OverviewDesire to Create: Baťa’s Architecture of Belonging is an exhibition in London at the Czech Centre’s Vitrínka Gallery. It examines the relationship between industrial planning\, housing\, and community design through the legacy of Tomáš Baťa and the East Tilbury settlement in Essex. The event sits within architecture\, urban history\, and design culture. FocusThe exhibition focuses on how corporate vision can shape the built environment. It studies modernist planning\, worker housing\, civic identity\, and the integration of labour with daily life. It also raises questions about whether employer-led urban models create genuine community or controlled environments. Architecture here is presented not only as buildings\, but as a system of social organisation. ProgramThe program includes a public exhibition with architectural drawings\, historical photographs\, and archival artefacts related to Baťa’s planning model. It traces the translation of business principles into physical space\, from urban planning to domestic life. A related panel discussion titled Designed to Belong expands the debate around modernism\, industry\, and belonging. AudienceThis event is relevant to architects\, urban researchers\, preservation specialists\, students\, and visitors interested in the political role of design and planned communities. Event Details\n\n\nDates\n10 April 2026 to 12 June 2026\n\n\nVenue\nVitrínka Gallery\, Czech Centre London\, 30 Kensington Palace Gardens\, London W8 4QY\n\n\nEvent Type\nExhibition\n\n\nAccess\nPublic\n\n\nFees\nFree\n\n\n✦ ArchUp Editorial InsightThe exhibition is strongest when read as a case study in paternalistic modernism. Baťa’s model linked welfare\, efficiency\, and spatial order\, but such systems often blur the line between community care and behavioural control. For architects\, the project remains relevant because many contemporary masterplans still promise belonging through centrally managed environments. Closing NoteRather than focusing on iconic buildings\, this event positions architecture as an instrument of economic and social planning\, giving it broader relevance than a standard historical exhibition.
URL:https://archup.net/event/desire-to-create-batas-architecture-of-belonging-2026/
LOCATION:Vitrinka Gallery\, Czech Centre\, 30 Kensington Palace Gardens\, London\, London\, -\, United Kingdom
CATEGORIES:Exhibitions
ATTACH;FMTTYPE=image/jpeg:https://archup.net/wp-content/uploads/2026/04/4f44b16930c96e3b868397657f54cccc.jpg
ORGANIZER;CN="Veronika Blues":MAILTO:info@czechcentre.org.uk
END:VEVENT
END:VCALENDAR