BEGIN:VCALENDAR
VERSION:2.0
PRODID:-//ArchUp - ECPv6.15.20//NONSGML v1.0//EN
CALSCALE:GREGORIAN
METHOD:PUBLISH
X-ORIGINAL-URL:https://archup.net
X-WR-CALDESC:Events for ArchUp
REFRESH-INTERVAL;VALUE=DURATION:PT1H
X-Robots-Tag:noindex
X-PUBLISHED-TTL:PT1H
BEGIN:VTIMEZONE
TZID:UTC
BEGIN:STANDARD
TZOFFSETFROM:+0000
TZOFFSETTO:+0000
TZNAME:UTC
DTSTART:20250101T000000
END:STANDARD
END:VTIMEZONE
BEGIN:VEVENT
DTSTART;TZID=UTC:20260130T080000
DTEND;TZID=UTC:20260201T170000
DTSTAMP:20260419T231947
CREATED:20260105T142343Z
LAST-MODIFIED:20260105T142343Z
UID:10001036-1769760000-1769965200@archup.net
SUMMARY:Pittsburgh Remodeling Expo 2026
DESCRIPTION:Overview\n \n\nThe Pittsburgh Remodeling Expo 2026 is a local home improvement fair that is held annually at the Acrisure Stadium – UPMC Club Lounge in Pittsburgh\, PA. The show continues for three days\, allowing local homeowners and builders to see and discuss the latest products and services and share practical ideas for making a home more livable.\n\n \n Focus\n \n\nOne of the main attractions of the event is the renovation and remodeling trends\, showcased through various exhibits including cabinetry\, countertops\, flooring\, sunrooms\, basement finishing\, waterproofing\, smart home automation\, and energy‑efficient products. You can see how similar home and design issues are presented in other events by checking out ArchUp’s coverage of the Interior Design Furnishing Expo 2026.\n\n \n Program\n \n\nThe expo presents vendor booths\, product demonstrations\, and discussions with local professionals who are giving advice on home upgrades and renovations. You can compare different products and meet with professionals who are going to help you with the planning and execution of your project.\n\n \n\n“Pittsburgh Remodeling Expo brings together homeowners along with renovation professionals to discover practical and fashionable home improvement solutions beneath one roof.”\n\n \n\nFor insights into how exhibitors merge displays with networking in the industry\, refer to ArchUp’s recap of the DesignTO Festival 2026\, which similarly unites curated presentations with expert interaction.\n\n \n Audience\n \n\nThe event is targeted towards homeowners\, DIY enthusiasts\, local contractors\, and design professionals who are interested in renovation ideas and products.\n\n \n Event Details\n\n\n\nDates\nJanuary 30 – February 1 2026\n\n\nVenue\nAcrisure Stadium – UPMC Club Lounge\, Pittsburgh\, Pennsylvania\, USA\n\n\nEvent Type\nHome Improvement Trade Expo\n\n\nAccess\nOpen to homeowners and industry attendees\n\n\nFees\nStandard admission applies (Adults $5\, Children under 18 free)\n\n\n\n✦ ArchUp Editorial Insight\n \n\nIn the eyes of an architect\, the Pittsburgh Remodeling Expo 2026 is not just an event for exposing new ideas in design but a practical platform for exploring home renovation strategies. The focus is on the interaction between the participants\, the choice of materials and the local industry practices. Homeowners and professionals get the chance to learn about functional improvements and efficient remodeling solutions together. The whole event’s style is very much based on applied knowledge and professional guidance; it also points out the trends in building in the region and yet it is not the same as design forums that are either evaluative or competitive.\n\n \n Closing NoteThe Pittsburgh Remodeling Expo 2026 showcases renovation products and services for the region in a very practical way. By focusing on the presentation of hands-on ideas and providing expert advice\, it is ranked as a relevant site for the upcoming home improvement projects of Pittsburgh area homeowners. For the most extensive global coverage of how home and design events are staged\, refer to ArchUp’s review of the Salone del Mobile Milano 2025. Explore the Latest Architecture Exhibitions & Conferences\n\nArchUp offers daily updates on top global architectural exhibitions\, design conferences\, and professional art and design forums. Follow key architecture competitions\, check official results\, and stay informed through the latest architectural news worldwide. ArchUp is your encyclopedic hub for discovering events and design-driven opportunities across the globe.
URL:https://archup.net/event/pittsburgh-remodeling-expo-2026/
LOCATION:Acrisure Stadium\, 100 Art Rooney Ave\, Pittsburgh\, PA 15212\, USA\, Pittsburgh\, United States
CATEGORIES:Exhibitions
ATTACH;FMTTYPE=image/gif:https://archup.net/wp-content/uploads/2026/01/Home-Building-Remodeling-Show.gif
END:VEVENT
END:VCALENDAR