BEGIN:VCALENDAR
VERSION:2.0
PRODID:-//ArchUp - ECPv6.15.20//NONSGML v1.0//EN
CALSCALE:GREGORIAN
METHOD:PUBLISH
X-WR-CALNAME:ArchUp
X-ORIGINAL-URL:https://archup.net
X-WR-CALDESC:Events for ArchUp
REFRESH-INTERVAL;VALUE=DURATION:PT1H
X-Robots-Tag:noindex
X-PUBLISHED-TTL:PT1H
BEGIN:VTIMEZONE
TZID:UTC
BEGIN:STANDARD
TZOFFSETFROM:+0000
TZOFFSETTO:+0000
TZNAME:UTC
DTSTART:20250101T000000
END:STANDARD
END:VTIMEZONE
BEGIN:VEVENT
DTSTART;TZID=UTC:20260211T080000
DTEND;TZID=UTC:20260531T170000
DTSTAMP:20260420T232911
CREATED:20260213T215321Z
LAST-MODIFIED:20260213T215321Z
UID:10001167-1770796800-1780246800@archup.net
SUMMARY:Denise Scott Brown: City Street House 2026
DESCRIPTION:OverviewThe presentation of *City Street House* as a historic residential development by Denise Scott Brown demonstrates her design methods and urban design and architectural space planning. The session includes presentations\, architectural analysis\, and discussions on postmodern residential design principles. The event connects to broader industry insights found in architecture events. FocusThe research investigates three areas which include urban residential design and adaptive reuse and the creative development of compact urban spaces. The study will examine how materials are selected and how exterior facades and interior spaces are designed. The lecture complements theoretical discussions presented in architecture articles and it parallels design analysis approaches which architecture competitions use. ProgramThe event begins with a main speech about *City Street House* which is followed by a question-and-answer period with architects and designers and students. The project study provides participants with two activities which include small-group design discussions and urban design examination activities. AudienceThe lecture is open to architects\, urban designers\, architecture students\, researchers\, and professionals who study postmodern residential architecture and urban infill developments. Event Details\n\n\nItem\nDetails\n\n\nDate\nFeb 11 – May 31\, 2026 \n\n\nTime\n10am – 8pm \n\n\nVenue\n\nBilbao Fine Arts Museum\n\n\n\nEvent Type\nArchitectural lecture and discussion\n\n\nAccess\nOpen to registered attendees\n\n\nFees\nGeneral Admission — 50 USD / Students — 25 USD\n\n\n✦ ArchUp Editorial InsightThe professional analysis of postmodern urban residential architecture gets executed through Denise Scott Brown City Street House 2026 which serves as a dedicated research platform. The architecturally design proceeds through three main elements which include spatial design methods and material selection and urban site development patterns for small city areas. The lecture and discussion format enables critical examination of urban infill challenges\, facade articulation\, and interior spatial organization\, offering practical and theoretical insights for architects and students. The event serves academic and professional purposes while it helps people understand adaptive urban housing and real-world applications of postmodern design principles which connect design theory with actual urban environments. Critical ConclusionThe Denise Scott Brown City Street House 2026 event provides a focused platform to study postmodern urban residential architecture. Its value exists through three elements which include professional development and spatial analysis and design discussion about contextual designs. The event presents academic and professional content while it shows practical difficulties which emerge during urban infill development and small-lot residential construction projects that happen between bigger architectural events. Explore the Latest Architecture Exhibitions & ConferencesArchUp offers daily updates on top global architectural exhibitions\, design conferences\, and professional art and design forums. Follow key architecture competitions\, check official results\, and stay informed through the latest architectural news worldwide. ArchUp is your encyclopedic hub for discovering events and design-driven opportunities across the globe.
URL:https://archup.net/event/denise-scott-brown-city-street-house-2026/
LOCATION:Bilbao Fine Arts Museum\, Eduardo Chillida square. Bilbao\, 48009\, Bilbao\, Bilbao\, -\, Spain
CATEGORIES:Conferences
ATTACH;FMTTYPE=image/jpeg:https://archup.net/wp-content/uploads/2026/02/DSB_Ciudad_calle_casa_4-1.jpg
ORGANIZER;CN="Bilbao Fine Arts Museum":MAILTO:direction@bilbaomuseoa.eus
END:VEVENT
END:VCALENDAR