BEGIN:VCALENDAR
VERSION:2.0
PRODID:-//ArchUp - ECPv6.15.20//NONSGML v1.0//EN
CALSCALE:GREGORIAN
METHOD:PUBLISH
X-ORIGINAL-URL:https://archup.net
X-WR-CALDESC:Events for ArchUp
REFRESH-INTERVAL;VALUE=DURATION:PT1H
X-Robots-Tag:noindex
X-PUBLISHED-TTL:PT1H
BEGIN:VTIMEZONE
TZID:UTC
BEGIN:STANDARD
TZOFFSETFROM:+0000
TZOFFSETTO:+0000
TZNAME:UTC
DTSTART:20250101T000000
END:STANDARD
END:VTIMEZONE
BEGIN:VEVENT
DTSTART;TZID=UTC:20260206T080000
DTEND;TZID=UTC:20260209T170000
DTSTAMP:20260419T132330
CREATED:20260203T192009Z
LAST-MODIFIED:20260203T192009Z
UID:10001119-1770364800-1770656400@archup.net
SUMMARY:BUILD INTEC 2026
DESCRIPTION:OverviewBuild Intec 2026 functions as an international construction and building trade fair which takes place in Coimbatore India. The event allows industry experts to display their construction products and materials and machinery and technological innovations. FocusThe event covers the complete construction process which includes basic materials like cement and steel and advanced systems which include smart building technologies and modular solutions and energy-efficient products. ProgramThe program includes exhibitor booths and product demonstrations and technical sessions and expert discussions and professional networking activities. The equipment showcase includes construction tools and chemicals and building materials and interior and exterior design products and associated technologies. AudienceThe event aims to attract architects and builders and contractors and consulting engineers and distributors and interior designers and property developers and other construction professionals. Event Details\n\n\n\n\nItem\nDetails\n\n\n\n\nDates\n6 February 2026 — 9 February 2026\n\n\nVenue\nCODISSIA Trade Fair Complex\, Coimbatore\, Tamil Nadu\, India\n\n\nEvent Type\nInternational construction and building trade fair\n\n\nAccess\nRegistration required; trade and public visitors\n\n\nFees\nTrade visitors often free with registration; general public typically pays a small entry fee\n\n\n\n\n✦ ArchUp Editorial InsightThe international construction and building materials trade fair Build Intec 2026 will take place from February 6 to February 9 at the CODISSIA Trade Fair Complex in Coimbatore. The expo operates as an architectural showcase that displays material suppliers and machinery together with construction systems for the purpose of demonstrating their commercial and technical functions. The event brings together a diverse range of building industry professionals to present functional solutions\, but it restricts its exploration of architectural theory and experimental design and built form research to product-based innovations. Closing NoteBuild Intec functions mainly as a commercial and industry networking platform. The organization prioritizes product exhibition and commercial openings above architectural analysis and design research. Explore the Latest Architecture Exhibitions & ConferencesArchUp offers daily updates on top global architectural exhibitions\, design conferences\, and professional art and design forums. Follow key architecture competitions\, check official results\, and stay informed through the latest architectural news worldwide. ArchUp is your encyclopedic hub for discovering events and design-driven opportunities across the globe.
URL:https://archup.net/event/build-intec-2026/
LOCATION:Codissia Trade Fair Complex\, G.V.Fair Grounds Avinashi Road Coimbatore - 641 014\, Coimbatore\, Coimbatore\, 91\, India
CATEGORIES:Exhibitions
ATTACH;FMTTYPE=image/png:https://archup.net/wp-content/uploads/2026/02/681da09cb3d0d-scaled.png
ORGANIZER;CN="Codissia Trade Fair Complex":MAILTO:info@codissia.com
END:VEVENT
END:VCALENDAR