BEGIN:VCALENDAR
VERSION:2.0
PRODID:-//ArchUp - ECPv6.15.20//NONSGML v1.0//EN
CALSCALE:GREGORIAN
METHOD:PUBLISH
X-ORIGINAL-URL:https://archup.net
X-WR-CALDESC:Events for ArchUp
REFRESH-INTERVAL;VALUE=DURATION:PT1H
X-Robots-Tag:noindex
X-PUBLISHED-TTL:PT1H
BEGIN:VTIMEZONE
TZID:UTC
BEGIN:STANDARD
TZOFFSETFROM:+0000
TZOFFSETTO:+0000
TZNAME:UTC
DTSTART:20250101T000000
END:STANDARD
END:VTIMEZONE
BEGIN:VEVENT
DTSTART;TZID=UTC:20260603T080000
DTEND;TZID=UTC:20260603T170000
DTSTAMP:20260423T195053
CREATED:20260410T234720Z
LAST-MODIFIED:20260410T234720Z
UID:10001399-1780473600-1780506000@archup.net
SUMMARY:Zak World of Façades Manchester 2026
DESCRIPTION:OverviewZak World of Façades Manchester 2026 is the 220th global edition and the 4th edition in Manchester. It is a one-day conference focused on building façades. The event takes place on June 3\, 2026\, from 8:00 am to 5:00 pm at The Manchester Deansgate Hotel in Manchester\, UK\, and belongs to the field of façade engineering\, sustainable construction\, and building envelope design. FocusThe event focuses on sustainable innovations and challenges related to the building envelope. It covers topics such as conservation versus contemporary intervention in listed structures\, retrofit and performance upgrades\, unitised façades\, terracotta solutions\, acoustic performance\, regulatory compliance\, and material innovations for low-carbon outcomes. ProgramThe program consists of presentations and talks by speakers from firms including Populous\, BuroHappold\, 6a architects\, Arup\, BDP\, and Sheppard Robson. Sessions address specific case studies\, best practices in retrofit\, stadium façade design\, and technological solutions for façades\, alongside displays of latest industry innovations. AudienceThis event targets architects\, façade engineers\, consultants\, contractors\, and other professionals involved in building envelope design and construction. Event Details\n\n\nDates\nJune 3\, 2026 (08:00 – 17:00)\n\n\nVenue\nThe Manchester Deansgate Hotel\, Manchester\, UK\n\n\nEvent Type\nConference\n\n\nAccess\nOpen to industry professionals upon registration\n\n\nFees\nNot publicly specified (typical industry conference; registration required – contact organizer for details)\n\n\n✦ ArchUp Editorial InsightFrom an architecture perspective\, Zak World of Façades Manchester 2026 concentrates on technical and performance aspects of the building envelope. While the speaker lineup and case-study format provide detailed insights into material and regulatory issues\, the single-day structure and strong industry focus may constrain broader architectural critique. Discussions risk prioritising engineering solutions and compliance over deeper exploration of façade contribution to urban context\, cultural expression\, or long-term spatial experience in contemporary UK projects. Closing NoteThe event maintains a recurring position as a specialised platform for façade-related knowledge exchange in the United Kingdom. For more on building envelope strategies\, see our section on facades or sustainable architecture. Additional context is available in coverage of architecture events focused on construction technologies. “Façade conferences deliver targeted technical knowledge\, yet architectural integration of these systems benefits from wider contextual evaluation.”
URL:https://archup.net/event/zak-world-of-facades-manchester-2026/
LOCATION:Hilton Manchester Deansgate\, 303 Deansgate Manchester M3 4LQ\, Manchester\, Manchester\, -\, United Kingdom
CATEGORIES:Conferences
ATTACH;FMTTYPE=image/jpeg:https://archup.net/wp-content/uploads/2026/04/1920x990-man-26.jpg
ORGANIZER;CN="Zak Group":MAILTO:info@zakgroup.com
END:VEVENT
END:VCALENDAR