BEGIN:VCALENDAR
VERSION:2.0
PRODID:-//ArchUp - ECPv6.15.20//NONSGML v1.0//EN
CALSCALE:GREGORIAN
METHOD:PUBLISH
X-ORIGINAL-URL:https://archup.net
X-WR-CALDESC:Events for ArchUp
REFRESH-INTERVAL;VALUE=DURATION:PT1H
X-Robots-Tag:noindex
X-PUBLISHED-TTL:PT1H
BEGIN:VTIMEZONE
TZID:America/Los_Angeles
BEGIN:DAYLIGHT
TZOFFSETFROM:-0800
TZOFFSETTO:-0700
TZNAME:PDT
DTSTART:20240310T100000
END:DAYLIGHT
BEGIN:STANDARD
TZOFFSETFROM:-0700
TZOFFSETTO:-0800
TZNAME:PST
DTSTART:20241103T090000
END:STANDARD
BEGIN:DAYLIGHT
TZOFFSETFROM:-0800
TZOFFSETTO:-0700
TZNAME:PDT
DTSTART:20250309T100000
END:DAYLIGHT
BEGIN:STANDARD
TZOFFSETFROM:-0700
TZOFFSETTO:-0800
TZNAME:PST
DTSTART:20251102T090000
END:STANDARD
BEGIN:DAYLIGHT
TZOFFSETFROM:-0800
TZOFFSETTO:-0700
TZNAME:PDT
DTSTART:20260308T100000
END:DAYLIGHT
BEGIN:STANDARD
TZOFFSETFROM:-0700
TZOFFSETTO:-0800
TZNAME:PST
DTSTART:20261101T090000
END:STANDARD
END:VTIMEZONE
BEGIN:VEVENT
DTSTART;TZID=America/Los_Angeles:20250626T080000
DTEND;TZID=America/Los_Angeles:20250629T170000
DTSTAMP:20260423T214014
CREATED:20250620T140818Z
LAST-MODIFIED:20250620T140818Z
UID:10000767-1750924800-1751216400@archup.net
SUMMARY:Los Angeles Design Festival 2025
DESCRIPTION:✦ OverviewThe Los Angeles Design Festival (LADF) returns from June 26–29\, 2025\, activating the city’s creative spirit through its biennial celebration of design\, innovation\, and cultural exchange. As the only multidisciplinary citywide design festival in Los Angeles\, LADF transforms neighborhoods from Pasadena to Long Beach into vibrant hubs of exploration and imagination. This year’s edition is themed “Design Futurism\,” a concept-driven\, solution-oriented approach that positions design not just as a response to the future\, but as a tool to create it. The festival invites Angelenos and global visitors to explore how instinctive creativity can reshape everything—from systems and spaces to our shared human experience. ✦ Why You Should Attend\n\nShape the Future: LADF is where radical thinkers\, designers\, and communities converge to explore how design solves today’s—and tomorrow’s—most urgent problems. \n\n\nFully Immersive: The city itself becomes the venue\, with programming taking place across galleries\, rooftops\, studios\, and sidewalks. \n\n\nCross-Disciplinary Exchange: From architecture to fashion\, tech to food design\, the festival thrives on collaboration across creative disciplines. \n\n\nDynamic Tracks: Programming is centered around four bold content tracks: \n\n\nL.A. Forever – Focuses on the city’s resilience through design post-crisis\, curated with Frances Anderton. \n\n\nRevenge of Analog – Celebrates hands-on\, tactile creativity in a digital-first world. \n\n\nThe Ancestors Have Answers – Elevates Indigenous and ancestral design philosophies. \n\n\nWe Can See the Future – Explores speculative design and system transformation with Radha Mistry & Ronni Kim. \n\n\n\n✦ Key Highlights\n\n\n\n\nFeature\nDetails\n\n\n\n\nEvent Name\nLos Angeles Design Festival 2025\n\n\nDates\nJune 26 – 29\, 2025\n\n\nLocation\nVarious locations across Los Angeles\, USA\n\n\nTheme\nDesign Futurism\n\n\nFounded\n2011\n\n\nFormat\nIn-person\, citywide event\n\n\nMain Activities\nKeynotes\, workshops\, installations\, tours\, block parties\n\n\n\n\n\n\n\n✦ AdmissionMost LADF events are free and open to the public\, while select sessions may require advance registration or tickets. Stay tuned to LADF’s official channels for updates. ✦ ArchUp Editorial InsightWhat makes Los Angeles Design Festival 2025 stand out is not just its ambitious theme of “Design Futurism” but its courage in framing design as a humanist tool for reshaping societal systems. The four-track curation pushes beyond aesthetic experimentation and dares to explore systemic change—especially the “The Ancestors Have Answers” track\, which brings Indigenous knowledge into the design future. We especially recommend it to professionals exploring the intersections of design\, justice\, and collective memory. This is not merely a showcase—LADF is where speculative design becomes actionable\, social\, and communal. ✦ Explore More with ArchUpArchUp documents the evolving profession of architects worldwide\, from career insights and research to project profiles and industry news.Our editorial team publishes global salary trends\, career advice\, and opportunities for emerging talents.Learn more on our About page or Contact us to collaborate.
URL:https://archup.net/event/los-angeles-design-festival-2025/
LOCATION:Los Angeles
CATEGORIES:Exhibitions
ATTACH;FMTTYPE=image/avif:https://archup.net/wp-content/uploads/2025/06/la-design-festival-2025-scaled.avif
END:VEVENT
END:VCALENDAR