BEGIN:VCALENDAR
VERSION:2.0
PRODID:-//ArchUp - ECPv6.15.20//NONSGML v1.0//EN
CALSCALE:GREGORIAN
METHOD:PUBLISH
X-WR-CALNAME:ArchUp
X-ORIGINAL-URL:https://archup.net
X-WR-CALDESC:Events for ArchUp
REFRESH-INTERVAL;VALUE=DURATION:PT1H
X-Robots-Tag:noindex
X-PUBLISHED-TTL:PT1H
BEGIN:VTIMEZONE
TZID:America/Los_Angeles
BEGIN:DAYLIGHT
TZOFFSETFROM:-0800
TZOFFSETTO:-0700
TZNAME:PDT
DTSTART:20240310T100000
END:DAYLIGHT
BEGIN:STANDARD
TZOFFSETFROM:-0700
TZOFFSETTO:-0800
TZNAME:PST
DTSTART:20241103T090000
END:STANDARD
BEGIN:DAYLIGHT
TZOFFSETFROM:-0800
TZOFFSETTO:-0700
TZNAME:PDT
DTSTART:20250309T100000
END:DAYLIGHT
BEGIN:STANDARD
TZOFFSETFROM:-0700
TZOFFSETTO:-0800
TZNAME:PST
DTSTART:20251102T090000
END:STANDARD
BEGIN:DAYLIGHT
TZOFFSETFROM:-0800
TZOFFSETTO:-0700
TZNAME:PDT
DTSTART:20260308T100000
END:DAYLIGHT
BEGIN:STANDARD
TZOFFSETFROM:-0700
TZOFFSETTO:-0800
TZNAME:PST
DTSTART:20261101T090000
END:STANDARD
END:VTIMEZONE
BEGIN:VEVENT
DTSTART;TZID=America/Los_Angeles:20250818T080000
DTEND;TZID=America/Los_Angeles:20250819T170000
DTSTAMP:20260423T235530
CREATED:20250621T105646Z
LAST-MODIFIED:20250621T105646Z
UID:10000780-1755504000-1755622800@archup.net
SUMMARY:International Conference on Civil and Architectural Engineering 2025 (ICCAE)
DESCRIPTION:OverviewThe International Conference on Civil and Architectural Engineering (ICCAE)\, organized by the International Academy of Science\, Technology\, Engineering\, and Management (IASTEM)\, is set to take place in Hong Kong from 9th to 10th August 2025. This annual conference serves as a dynamic platform for bringing together academics\, researchers\, engineers\, and professionals in civil and architectural engineering from around the world. ICCAE 2025 aims to foster international collaboration\, promote research and development activities\, and facilitate the exchange of scientific knowledge across various sectors related to science\, technology\, and management. Purpose and GoalsThe primary objectives of ICCAE 2025 include: \n\nPromoting interdisciplinary research in civil and architectural engineering. \n\n\nEncouraging global collaboration among scientists\, developers\, students\, and industry professionals. \n\n\nOffering a stage to present cutting-edge innovations\, case studies\, and technical advancements in the field. \n\n\nStrengthening the integration between academic research and practical engineering solutions. \n\nKey Features\n\nRenowned Speakers from academic and industrial backgrounds. \n\n\nBest Paper Awards to recognize significant contributions. \n\n\nNetworking Opportunities for developing professional and academic collaborations. \n\nPublication OpportunitiesAll accepted submissions to ICCAE 2025 will enjoy extensive publishing benefits: \n\nConference Abstract Book with ISBN for all abstracts. \n\n\nFull papers can be published in high-ranking indexed international journals such as: \n\n\nSCOPUS \n\n\nWeb of Science \n\n\nUGC Care \n\n\nOther recognized journals or book chapters. \n\n\n\nIn addition: \n\nProceedings published by World Research Library. \n\n\nAll papers archived at: www.worldresearchlibrary.org. \n\n\nEach paper receives a Digital Object Identifier (DOI) from CROSSREF. \n\n\nSubmitted to Google Scholar for indexing. \n\n\nFinal papers published with ISSN numbers in affiliated international journals. \n\nOrganizing BodyThe conference is led by IASTEM\, a globally respected institution dedicated to advancing education\, innovation\, and research. It regularly hosts conferences and academic forums to support intellectual exchange and professional development. ✦ ArchUp Editorial InsightFrom an editorial standpoint\, ICCAE 2025 stands out for its dual focus: academic rigor and practical application. By linking publication in top-tier journals with live knowledge exchange\, the event supports meaningful career progression for participants. The inclusion of DOI assignment and Google Scholar indexing enhances research visibility. However\, clearer information about the reviewing criteria and list of affiliated journals could improve transparency. Researchers targeting international exposure in civil and architectural disciplines should strongly consider this event. Explore More with ArchUpArchUp documents the evolving profession of architects worldwide\, from career insights and research to project profiles and industry news. Our editorial team publishes global salary trends\, career advice\, and opportunities for emerging talents. Learn more on our About page or Contact us to collaborate. The Angel of History and the Ghosts of Boston: Robert Campbell’s Vision of Urban Memory and Progress  Bab Samhan Hotel Opens Its Doors in Diriyah\, Blending Heritage with Modern Comfort  Construction Progresses on New Office Tower Along King Fahd Road in Riyadh
URL:https://archup.net/event/international-conference-on-civil-and-architectural-engineering-2025-iccae/
LOCATION:M Resort & Hotel\, Jalan Damansara\, Bukit Kiara\, 60000\, Kuala Lumpur\, Malaysia
CATEGORIES:Conferences
END:VEVENT
END:VCALENDAR