BEGIN:VCALENDAR
VERSION:2.0
PRODID:-//ArchUp - ECPv6.15.20//NONSGML v1.0//EN
CALSCALE:GREGORIAN
METHOD:PUBLISH
X-WR-CALNAME:ArchUp
X-ORIGINAL-URL:https://archup.net
X-WR-CALDESC:Events for ArchUp
REFRESH-INTERVAL;VALUE=DURATION:PT1H
X-Robots-Tag:noindex
X-PUBLISHED-TTL:PT1H
BEGIN:VTIMEZONE
TZID:UTC
BEGIN:STANDARD
TZOFFSETFROM:+0000
TZOFFSETTO:+0000
TZNAME:UTC
DTSTART:20250101T000000
END:STANDARD
END:VTIMEZONE
BEGIN:VEVENT
DTSTART;TZID=UTC:20260527T080000
DTEND;TZID=UTC:20260528T170000
DTSTAMP:20260424T205357
CREATED:20260401T204029Z
LAST-MODIFIED:20260401T204029Z
UID:10001383-1779868800-1779987600@archup.net
SUMMARY:BUILD EXPO USA - AUSTIN 2026
DESCRIPTION:Overview\nBuild Expo USA — Austin 2026 is an annual regional building and construction trade show organised by Build Expo USA\, headquartered in Austin\, Texas. The 2026 edition takes place on 27 and 28 May 2026 at the Palmer Events Center\, 900 Barton Springs Road\, Austin\, TX 78704. The exhibit floor is open from 10:00 a.m. to 3:00 p.m. on both days\, with complimentary educational classes beginning at 9:30 a.m. each day. \nBuild Expo USA operates a national circuit of regional building and construction shows across the United States\, with 2026 editions also scheduled in Nashville\, Houston\, Fort Lauderdale\, Charlotte\, Los Angeles\, and Phoenix\, among others. The Austin edition draws approximately 2\,000 visitors and over 170 exhibitors\, positioning it as one of the larger regional construction trade events in Texas. Admission for industry professionals is complimentary with prior registration. The event is exclusively for trade professionals — not open to the general public. \nFormat and Content\nThe Austin Build Expo combines an open exhibition floor with a concurrent educational programme. The exhibit floor brings together manufacturers\, suppliers\, and service providers across the full spectrum of the building and construction supply chain. Alongside the floor\, complimentary educational classes and seminars run throughout both days\, offering continuing education opportunities for contractors\, builders\, and design professionals. \nProduct and service categories represented include building materials\, heavy equipment\, fencing\, electrical systems\, fire protection\, flooring\, generators\, HVAC\, kitchen and bathroom products including cabinets and countertops\, doors and windows\, lighting\, solar energy\, roofing\, sustainable construction solutions\, portable buildings\, paints and finishes\, signage\, marketing services\, and tools. Past exhibitors have included Pella Windows and Doors\, EquipmentShare\, Knapheide\, FOX BLOCKS\, Builders First Source\, and Texas Disposal Systems. \nAudience\nThe event is targeted exclusively at trade professionals. The registered attendee profile includes general contractors\, subcontractors\, builders\, remodellers\, developers\, architects\, engineers\, facility managers\, real estate professionals\, and other building industry decision-makers based in the Central Texas and broader Texas market. The pre-registration requirement and trade-only policy ensure that the floor traffic consists primarily of qualified buyers and specifiers rather than general consumers. \nEvent Details\n\n\n\nItem\nDetails\n\n\n\n\nEvent Name\nBuild Expo USA — Austin 2026\n\n\nDates\n27-28 May 2026 (Wednesday and Thursday)\n\n\nExhibit Hours\n10:00 a.m. to 3:00 p.m. both days. Classes from 9:30 a.m. both days.\n\n\nVenue\nPalmer Events Center\, 900 Barton Springs Rd\, Austin\, TX 78704\, USA\n\n\nOrganiser\nBuild Expo USA\, 13740 Research Blvd\, Building I\, Austin\, TX 78750. Tel: +1 877-219-3976. Website: buildexpousa.com\n\n\nExhibitors\n170+\n\n\nExpected visitors\n~2\,000 industry professionals\n\n\nAudience\nTrade professionals only — not open to general public\n\n\nAdmission\nComplimentary for registered industry professionals\n\n\nFrequency\nAnnual\n\n\nContact\ninfo@buildexpousa.com\n\n\n\n✦ ArchUp Editorial Insight\nBuild Expo USA — Austin occupies a clear and functional position in the regional construction industry calendar as a practical\, trade-focused procurement and networking event for the Central Texas building market. Its scale of 170-plus exhibitors and 2\,000 professional visitors is appropriate for a regional show and reflects genuine market penetration in a state with one of the most active construction sectors in the United States. Texas\, and Austin specifically\, has experienced sustained construction growth driven by population influx\, commercial development\, and infrastructure investment\, making a well-attended regional trade show a commercially viable proposition for both exhibitors and attendees. The complimentary educational classes running alongside the exhibit floor add professional development value that distinguishes the event from a purely transactional trade floor. The trade-only admission policy and pre-registration requirement ensure a qualified audience. For architects and designers based in Central Texas\, the event offers direct access to the regional contractor and supplier ecosystem in a single two-day window. The exhibit hours of 10:00 a.m. to 3:00 p.m. are notably short\, which concentrates traffic effectively but means visitors should plan their time carefully to cover the full floor. \nConclusion\nBuild Expo USA — Austin 2026 runs 27-28 May 2026 at Palmer Events Center\, Austin\, Texas\, from 10:00 a.m. to 3:00 p.m. each day with classes from 9:30 a.m. Complimentary admission for registered industry professionals. Register at buildexpousa.com/austin-build-expo or call +1 877-219-3976. \n 
URL:https://archup.net/event/build-expo-usa-austin-2026/
LOCATION:Palmer Events Center\, 900 Barton Springs Rd Austin\, TX 78704\, Austin\, TX\, -\, United States
CATEGORIES:Exhibitions
ATTACH;FMTTYPE=image/jpeg:https://archup.net/wp-content/uploads/2026/04/174721435319_3343_762758.jpg
ORGANIZER;CN="Build Expo USA":MAILTO:info@buildexpousa.com
END:VEVENT
END:VCALENDAR