BEGIN:VCALENDAR
VERSION:2.0
PRODID:-//ArchUp - ECPv6.15.20//NONSGML v1.0//EN
CALSCALE:GREGORIAN
METHOD:PUBLISH
X-WR-CALNAME:ArchUp
X-ORIGINAL-URL:https://archup.net
X-WR-CALDESC:Events for ArchUp
REFRESH-INTERVAL;VALUE=DURATION:PT1H
X-Robots-Tag:noindex
X-PUBLISHED-TTL:PT1H
BEGIN:VTIMEZONE
TZID:UTC
BEGIN:STANDARD
TZOFFSETFROM:+0000
TZOFFSETTO:+0000
TZNAME:UTC
DTSTART:20240101T000000
END:STANDARD
END:VTIMEZONE
BEGIN:VEVENT
DTSTART;TZID=UTC:20251001T080000
DTEND;TZID=UTC:20251003T170000
DTSTAMP:20260419T231949
CREATED:20250812T224501Z
LAST-MODIFIED:20250812T224501Z
UID:10000860-1759305600-1759510800@archup.net
SUMMARY:RoEnergy 2025
DESCRIPTION:RoEnergy 2025 marks the 14th consecutive year of Romania’s most significant renewable energy and energy efficiency exhibition. Scheduled for October 1–3\, 2025\, the event will unite leading innovators\, suppliers\, policymakers\, and investors at the heart of Southeast Europe’s energy transformation. Under the theme “Energy Security through Smart Energy Mix & Technology”\, RoEnergy 2025 will highlight the latest advances in photovoltaics\, bioenergy\, AI integration\, energy storage\, automation\, and efficiency solutions. Since its inception in 2010\, RoEnergy has grown into a trusted platform for cross-border business development\, policy dialogue\, and knowledge exchange. It has hosted over 700 exhibitors from Europe\, North America\, and Asia\, showcased more than 5\,000 brands\, and attracted over 33\,000 professional visitors. The 2025 edition promises an extensive exhibition\, conferences\, roundtables\, and networking activities designed to meet the needs of both B2B and B2C participants. Bucharest and Timișoara\, the two primary host cities\, reflect Romania’s dual role as both a national hub for economic growth and a strategic gateway between East and West. In this year’s context—where Romania targets €17 billion in energy investment over the next seven years—RoEnergy offers not just a showcase of technologies but also a vision for a sustainable\, decentralized\, and democratic energy future. Exhibition Features and OpportunitiesA Platform for Energy TransformationRoEnergy 2025 is recognized as the No.1 Renewable Energy Trade Fair in Romania. It connects the supply from Western Europe with the growing demand in Eastern markets\, facilitating cross-border deals\, partnerships\, and technology transfer. Core Technology Focus Areas: \n\n\n\n\nCategory\nHighlights\n\n\n\n\nPhotovoltaics\nHigh-efficiency solar panels\, inverters\, and integration systems\n\n\nBioenergy\nBiomass\, biogas\, cogeneration solutions\n\n\nEnergy Storage\nLithium-ion\, hybrid storage\, thermal storage\n\n\nAutomation & AI\nSmart grid systems\, predictive maintenance\n\n\nEnergy Efficiency\nBuilding management systems\, retrofitting solutions\n\n\n\n\n \n\n\nNetworking & Market AccessParticipants will engage with decision-makers from 50+ partner organizations\, including industry associations\, regulatory bodies\, and media outlets. The trade fair creates opportunities for: \n\nExpanding into emerging Romanian and Balkan renewable markets. \n\n\nMeeting potential distributors\, contractors\, and technical collaborators. \n\n\nGaining market intelligence through direct interaction with competitors and clients. \n\nStrategic Relevance of the Romanian MarketFive Reasons to Invest in Romania’s Renewable Energy Sector: \n\nLargest population and land area in Southeastern Europe. \n\n\nSupportive legislation for prosumers and large-scale renewable projects. \n\n\nUntapped potential in solar\, wind\, biomass\, and micro-hydropower. \n\n\nCompetitive taxation policies among the lowest in the EU. \n\n\nStable political and economic environment. \n\nProven Track RecordOver 15 editions\, RoEnergy has hosted 50+ side events including workshops\, press conferences\, and thematic panels. Exhibitors have come from Germany\, Italy\, France\, Spain\, Turkey\, USA\, China\, South Korea\, India\, and more. Visitors have included professionals from across Europe\, North America\, and Asia—underscoring RoEnergy’s global reach. Architectural AnalysisWhile RoEnergy 2025 is not a physical architecture project in the traditional sense\, its exhibition design embodies a strategic “spatial logic” aimed at fostering efficient knowledge flow and cross-sector collaboration. The hall layouts in Bucharest and Timișoara integrate thematic zones—grouping exhibitors by technology sector—while maintaining visual openness for ease of navigation. Materials used in the stands emphasize sustainability\, with many exhibitors adopting modular booths\, recycled components\, and minimal-waste displays. In context\, the fair’s physical and digital integration (via the Click2Match AI platform) expands the spatial definition of the event—extending it beyond its physical venue into a year-round virtual marketplace. A critical observation is whether this hybrid model can maintain the same depth of engagement as traditional\, in-person networking. Nonetheless\, the spatial and technological organization reflects a deliberate strategy to mirror the event’s theme of efficiency and innovation. Project ImportanceFor architects\, designers\, and planners engaged in energy-related projects\, RoEnergy 2025 offers a living laboratory of integrated technologies and systems. It demonstrates how energy infrastructure\, product design\, and urban planning intersect. By examining bioenergy plants\, solar arrays\, storage systems\, and smart grid interfaces\, attendees gain insights into the technical and policy frameworks shaping the built environment. The fair contributes to architectural thinking by reinforcing the idea that sustainability is not a singular design gesture but an interconnected ecosystem. For urbanists\, it underscores the role of decentralized energy systems in shaping resilient\, self-sufficient cities. In the context of global energy transitions\, this matters now because the design of tomorrow’s cities will hinge as much on energy strategies as on spatial form. ✦ ArchUp Editorial InsightRoEnergy 2025 positions itself as a nexus where cutting-edge renewable technologies meet practical implementation in emerging markets. The exhibition’s visual layout—sector-focused pavilions\, clean sightlines\, and modular stands—reinforces a sense of structured innovation. Its hybrid model combines physical presence with AI-driven matchmaking\, broadening its networking potential. A constructive critique might question whether technology-heavy matchmaking risks overshadowing the organic\, serendipitous connections vital to trade fairs. Still\, its commitment to showcasing full-spectrum renewable solutions in a strategically important market ensures RoEnergy remains a benchmark event in Southeast Europe’s energy transition. ConclusionAs Romania accelerates its €17 billion energy investment agenda\, RoEnergy 2025 serves as both a barometer and a catalyst for change. It brings together global innovators and local stakeholders to chart a course toward cleaner\, smarter\, and more secure energy systems. The fair’s blend of exhibition\, conference\, and networking formats ensures that knowledge exchange translates into actionable partnerships. For professionals across the renewable energy spectrum—engineers\, architects\, policymakers\, and investors—the event offers not only market access but also an opportunity to influence the trajectory of Southeast Europe’s energy transition. In an era where decentralization\, prosumer engagement\, and smart integration are redefining the energy landscape\, RoEnergy 2025 stands as a model for how trade fairs can drive industry-wide transformation while reflecting the values of sustainability and collaboration. Explore the Latest Architecture Exhibitions & ConferencesArchUp offers daily updates on top global architectural exhibitions\, design conferences\, and professional art and design forums. Follow key architecture competitions\, check official results\, and stay informed through the latest architectural news worldwide. ArchUp is your encyclopedic hub for discovering events and design-driven opportunities across the globe. Brought to you by the ArchUp Editorial TeamInspiration starts here. Dive deeper into Architecture\, Interior Design\, Research\, Cities\, Design\, and cutting-edge Projects on ArchUp.
URL:https://archup.net/event/roenergy-2025/
LOCATION:Pavilion Expovest\, Calea Lugojului 7\, Timișoara 307200\, Timișoara\, Romania
CATEGORIES:Exhibitions
ATTACH;FMTTYPE=image/png:https://archup.net/wp-content/uploads/2025/08/RoEnergy-2025-.png
END:VEVENT
END:VCALENDAR