BEGIN:VCALENDAR
VERSION:2.0
PRODID:-//ArchUp - ECPv6.15.20//NONSGML v1.0//EN
CALSCALE:GREGORIAN
METHOD:PUBLISH
X-ORIGINAL-URL:https://archup.net
X-WR-CALDESC:Events for ArchUp
REFRESH-INTERVAL;VALUE=DURATION:PT1H
X-Robots-Tag:noindex
X-PUBLISHED-TTL:PT1H
BEGIN:VTIMEZONE
TZID:UTC
BEGIN:STANDARD
TZOFFSETFROM:+0000
TZOFFSETTO:+0000
TZNAME:UTC
DTSTART:20250101T000000
END:STANDARD
END:VTIMEZONE
BEGIN:VEVENT
DTSTART;TZID=UTC:20260313T080000
DTEND;TZID=UTC:20260315T170000
DTSTAMP:20260421T173939
CREATED:20260221T234214Z
LAST-MODIFIED:20260221T234214Z
UID:10001172-1773388800-1773594000@archup.net
SUMMARY:Greater Cincinnati Home Expo 2026
DESCRIPTION:OverviewThe Greater Cincinnati Home Expo 2026 is a regional home improvement and remodeling exhibition which takes place at the Sharonville Convention Center located in Ohio United States. The event provides homeowners access to remodeling experts and contractors and product suppliers and home service providers. People visit the event to discover renovation concepts and evaluate different options and interact with experts who explain building and design improvements. Architectural events typically include coverage of these residential applied displays. FocusThe expo focuses on practical residential improvement sectors which include kitchen remodeling and bathroom upgrades and roofing and flooring and insulation and exterior systems and smart home solutions and landscaping and outdoor living installations. The project needs to be executed through actual work which requires assessing suppliers and getting expert advice instead of studying architectural principles. The building and architecture industry evaluation includes multiple implementation-focused subjects which operate in a similar manner to this concept. ProgrammeThe programme consists of exhibitor booths which display products and provide direct consultation and showcase live demonstrations. The visitors can obtain project advice while they search for materials and contractor quotations through their assessment of current residential construction technologies. This trade-fair format allows visitors to engage in practical activities which replicate the professional marketplace structure that architects use during international architecture industry events. AudienceThe event targets homeowners who plan to renovate their homes as well as property owners builders interior design experts and suppliers and landscape professionals and residential construction service providers who work in the residential construction sector. Event Details\n\n\nItem\nDetails\n\n\nDates\n13 March 2026 — 15 March 2026\n\n\nVenue\nSharonville Convention Center\, Sharonville\, Ohio\, USA\n\n\nEvent Type\nHome improvement and remodeling exhibition\n\n\nAccess\nOpen to the public and industry professionals\n\n\nFees\nDiscount admission available via organiser registrationFree parking at venue\n\n\n✦ ArchUp Editorial InsightThe Greater Cincinnati Home Expo 2026 which takes place at the Sharonville Convention Center functions as a regional residential marketplace which focuses on practical implementation instead of architectural discussions. The study shows how construction design practices create common housing designs through their two main limitations which include construction resources and budget restrictions and their adoption of set building materials. The event demonstrates its value through research which shows how renovation procedures work and how clients manage their budgets and how suppliers establish their market presence. The research provides no new design concepts for theoretical development but it shows how practical systems operate which determine the results of residential building projects. Critical ConclusionThe Greater Cincinnati Home Expo 2026 serves as a residential renovation marketplace which operates in the Greater Cincinnati area instead of an academic design event. The organization operates most effectively when homeowners and contractors work together directly while they assess different service providers at an accessible venue. The system effectively functions as a decision-making tool for people who want to improve their homes through residential upgrades while maintaining a budget and selecting suppliers in the construction industry. Explore the Latest Architecture Exhibitions & ConferencesArchUp offers daily updates on top global architectural exhibitions\, design conferences\, and professional art and design forums. Follow key architecture competitions\, check official results\, and stay informed through the latest architectural news worldwide. ArchUp is your encyclopedic hub for discovering events and design-driven opportunities across the globe.
URL:https://archup.net/event/greater-cincinnati-home-expo-2026/
LOCATION:Sharonville Convention Center\, 11355 Chester Road Cincinnati\, OH\, 45246-4002\, Cincinnati\, OH\, -\, United States
CATEGORIES:Exhibitions
ATTACH;FMTTYPE=image/webp:https://archup.net/wp-content/uploads/2026/02/o_1jhiirfkn19o26l75i1rqd39ea.webp
ORGANIZER;CN="L&L Exhibition Management%2C Inc.":MAILTO:info@homeshowcenter.com
END:VEVENT
END:VCALENDAR