BEGIN:VCALENDAR
VERSION:2.0
PRODID:-//ArchUp - ECPv6.15.20//NONSGML v1.0//EN
CALSCALE:GREGORIAN
METHOD:PUBLISH
X-ORIGINAL-URL:https://archup.net
X-WR-CALDESC:Events for ArchUp
REFRESH-INTERVAL;VALUE=DURATION:PT1H
X-Robots-Tag:noindex
X-PUBLISHED-TTL:PT1H
BEGIN:VTIMEZONE
TZID:UTC
BEGIN:STANDARD
TZOFFSETFROM:+0000
TZOFFSETTO:+0000
TZNAME:UTC
DTSTART:20240101T000000
END:STANDARD
END:VTIMEZONE
BEGIN:VEVENT
DTSTART;TZID=UTC:20251129T080000
DTEND;TZID=UTC:20251203T170000
DTSTAMP:20260422T225648
CREATED:20251126T215625Z
LAST-MODIFIED:20251126T215625Z
UID:10000915-1764403200-1764781200@archup.net
SUMMARY:Vietbuild Home International Exhibition 2025
DESCRIPTION:Vietbuild 2025 is the biggest event for the Vietnamese construction and building materials industry. A whole range of people from different professions is taking part in and making it happen\, so it connects the whole industry. The exhibition offers a comprehensive outlook of the construction and the housing sectors of Vietnam comprising of materials\, outdoors and indoors products\, whole real estate areas up for sale\, and latest construction techniques. It is also a place where it is assured that local and foreign firms will not only collaborate but also that the very emerging trends in eco-friendly and energetically efficient building practices will be bruited. \nEvent Overview\nVietbuild 2025 is held in different editions in the most important Vietnamese cities. The exhibitions consist of thousands of booths\, where both local and international companies participate. The displays will include structural systems\, facade systems\, the materials for interior finishing\, furniture\, decorative products\, smart home solutions\, mechanical equipment\, and real estate project presentations. In addition to the exhibition\, seminars and professional workshops are held to discuss topics including sustainability\, new materials\, construction standards\, and climate-responsive design. \nKey Displays and Themes\nThe event will highlight the following categories \n\nStructural and construction systems\nFacade and envelope systems including glazing\, insulation and cladding\nInterior and exterior finishing materials such as flooring\, tiles and sanitary fixtures\nFurniture and decorative products\nSmart building technologies and home automation\nGreen building materials and energy efficient systems\nReal estate development showcases and housing concepts\n\nAll categories are interrelated and contribute jointly to the understanding of the modern\, green\, and technologically advanced construction and the housing market in Vietnam\, which reflects the country’s ever-changing urban and climate conditions. \nArchitectural Analysis\nVietbuild 2025 showcases architecture as a synchronize system where materials\, structure and technology are to be in cooperation. The event offers a great variety of choices to architects and designers which leads to indebt considerations about cost\, durability\, climate efficiency and the entire design integrity. In a tropical climate\, the exhibition gives much prominence to the solutions that improve heat control and moisture performance through the use of suitable materials which are very much valued. \nSustainable products and smart systems are always present\, signifying the move towards greening and the raising of living standard as well. The fair showcases the advantages and the difficulties of using high tech\, passing a reminder to the architects that long run maintenance\, cost\, and user’s needs should be the factors in material choice. Vietbuild turns into a neutral testing arena where the professionals can try out what actually suits their project context. \nProject Importance\nVietbuild 2025 is the main reference point for the construction and real estate sectors in Vietnam. It aids understanding of the market direction by the companies\, new products promotion\, and the linkage of the design professionals with the cutting-edge technologies. Besides\, the conference encourages the inventing of new types of housing and buildings that are suitable for urban density\, climate control\, and modern lifestyle needs. \nVietbuild’s promotion of the use of eco-friendly materials\, energy-saving systems\, and different construction methods is a great contribution to the worldwide transition towards responsible and future-oriented architecture. \n✦ ArchUp Editorial Insight\nVietbuild 2025 indicates that contemporary architecture is based not only on the artistic side but also on the informed material and system selections. The exhibition displays each layer of the building affecting the performance and the comfort of the users\, from structural elements to interior finishes and eco-friendly technologies. The show presents numerous sophisticated solutions; however\, the challenge is to deploy them with different cost limits and various craft levels. Nevertheless\, Vietbuild allows the whole industry to get ahead by elevating the standards and giving the designers a more profound comprehension of what a clever construction can accomplish. \nConclusion \nVietbuild 2025 continues to be an indispensable venue for the professionals in the construction field who want to blend their design aspirations with eco-conscious practices. The display makes it possible for architects and constructors to contrast materials\, assess new systems and study housing models that are appropriate for Vietnam’s climate and urban proliferation. As the worldwide architecture is getting smarter\, more efficient and more human-centered\, the events like Vietbuild will continue to be the industry guide to a future where every building decision is knowledgeable\, purposeful and robust. \n\n\n\n\n\n\nExplore the Latest Architecture Exhibitions & ConferencesArchUp offers daily updates on top global architectural exhibitions\, design conferences\, and professional art and design forums. Follow key architecture competitions\, check official results\, and stay informed through the latest architectural news worldwide. ArchUp is your encyclopedic hub for discovering events and design-driven opportunities across the globe. Brought to you by the ArchUp Editorial TeamInspiration starts here. Dive deeper into architecture\, interior design\, research\, cities\, design\, and cutting-edge projects on ArchUp.
URL:https://archup.net/event/vietbuild-home-international-exhibition-2025/
LOCATION:SKY EXPO VIỆT NAM\, Lô 44\, Công Viên Phần Mềm Quang Trung\, Đ. Số 1\, Tân Hưng Thuận\, Quận 12\, Hồ Chí Minh 700000\, Vietnam Ho Chi Minh\, Vietnam\, Viet Nam
CATEGORIES:Exhibitions
ATTACH;FMTTYPE=image/jpeg:https://archup.net/wp-content/uploads/2025/11/Vietbuild-Home-International-Exhibition-2025-.jpg
END:VEVENT
END:VCALENDAR